BEGIN:VCALENDAR
VERSION:2.0
PRODID:-//Mount Hope Church | Lansing, MI - ECPv6.15.20//NONSGML v1.0//EN
CALSCALE:GREGORIAN
METHOD:PUBLISH
X-WR-CALNAME:Mount Hope Church | Lansing, MI
X-ORIGINAL-URL:https://mounthopechurch.org
X-WR-CALDESC:Events for Mount Hope Church | Lansing, MI
REFRESH-INTERVAL;VALUE=DURATION:PT1H
X-Robots-Tag:noindex
X-PUBLISHED-TTL:PT1H
BEGIN:VTIMEZONE
TZID:America/Detroit
BEGIN:DAYLIGHT
TZOFFSETFROM:-0500
TZOFFSETTO:-0400
TZNAME:EDT
DTSTART:20180311T070000
END:DAYLIGHT
BEGIN:STANDARD
TZOFFSETFROM:-0400
TZOFFSETTO:-0500
TZNAME:EST
DTSTART:20181104T060000
END:STANDARD
BEGIN:DAYLIGHT
TZOFFSETFROM:-0500
TZOFFSETTO:-0400
TZNAME:EDT
DTSTART:20190310T070000
END:DAYLIGHT
BEGIN:STANDARD
TZOFFSETFROM:-0400
TZOFFSETTO:-0500
TZNAME:EST
DTSTART:20191103T060000
END:STANDARD
BEGIN:DAYLIGHT
TZOFFSETFROM:-0500
TZOFFSETTO:-0400
TZNAME:EDT
DTSTART:20200308T070000
END:DAYLIGHT
BEGIN:STANDARD
TZOFFSETFROM:-0400
TZOFFSETTO:-0500
TZNAME:EST
DTSTART:20201101T060000
END:STANDARD
END:VTIMEZONE
BEGIN:VEVENT
DTSTART;VALUE=DATE:20190222
DTEND;VALUE=DATE:20190225
DTSTAMP:20260424T155743
CREATED:20180909T130041Z
LAST-MODIFIED:20181231T155221Z
UID:10002739-1550793600-1551052799@mounthopechurch.org
SUMMARY:Winter Retreat 2019 (Youth)
DESCRIPTION:Students in 6th grade through 12th grade\, come with us to Cran-Hill Ranch for 3 days to grow deeper in your relationship with God and connect with your Spyn family! We are meeting up with Vertical Student Ministries (Grand Rapids First Assembly) and will have a guest worship team and speaker for powerful services\, spend time praying and talking with each other in small groups\, and spend our afternoons tubing\, ice skating\, playing broom ball\, playing basketball\, hanging out by the fireplaces are more! \nLocation: Cran-Hill Ranch \nTransportation\, meals\, and snacks provided. \nDrop-off: Friday\, February 22nd at 4:00pm (Busses leaving at 4:30 sharp)\nPick-up: Sunday\, February 24th at 4:00pm \nWhat To Bring:\n\nBedding/Sleeping Bag (Twin Bunk-Beds provided)\nToiletries & Towels for showering\nSnow boots/attire appropriate for snow activities\nBible\, Notebook\, and Pen\nMoney to purchase snacks/souvenirs at the Barn Store (optional)\nSnacks (optional- all meals and a late night snack all nights are provided)\n\nWhere: Cran-Hill Ranch (Rodney\, Michigan) \nParent(s)/Guardian(s):\nClick here to fill out the //Spyn Participant Agreement & Medical Release Form.\nClick here to fill out the Cran-Hill Ministries Waiver Form.
URL:https://mhc.churchcenter.com/registrations/events/155775#new_tab
LOCATION:Mount Hope Church\, 202 South Creyts Rd\, Lansing\, MI\, 48917\, United States
CATEGORIES:Featured,Youth
GEO:42.7325525;-84.6445883
X-APPLE-STRUCTURED-LOCATION;VALUE=URI;X-ADDRESS=Mount Hope Church 202 South Creyts Rd Lansing MI 48917 United States;X-APPLE-RADIUS=500;X-TITLE=202 South Creyts Rd:geo:-84.6445883,42.7325525
END:VEVENT
END:VCALENDAR