BEGIN:VCALENDAR
VERSION:2.0
PRODID:-//Mount Hope Church | Lansing, MI - ECPv6.15.20//NONSGML v1.0//EN
CALSCALE:GREGORIAN
METHOD:PUBLISH
X-ORIGINAL-URL:https://mounthopechurch.org
X-WR-CALDESC:Events for Mount Hope Church | Lansing, MI
REFRESH-INTERVAL;VALUE=DURATION:PT1H
X-Robots-Tag:noindex
X-PUBLISHED-TTL:PT1H
BEGIN:VTIMEZONE
TZID:America/Detroit
BEGIN:DAYLIGHT
TZOFFSETFROM:-0500
TZOFFSETTO:-0400
TZNAME:EDT
DTSTART:20230312T070000
END:DAYLIGHT
BEGIN:STANDARD
TZOFFSETFROM:-0400
TZOFFSETTO:-0500
TZNAME:EST
DTSTART:20231105T060000
END:STANDARD
BEGIN:DAYLIGHT
TZOFFSETFROM:-0500
TZOFFSETTO:-0400
TZNAME:EDT
DTSTART:20240310T070000
END:DAYLIGHT
BEGIN:STANDARD
TZOFFSETFROM:-0400
TZOFFSETTO:-0500
TZNAME:EST
DTSTART:20241103T060000
END:STANDARD
BEGIN:DAYLIGHT
TZOFFSETFROM:-0500
TZOFFSETTO:-0400
TZNAME:EDT
DTSTART:20250309T070000
END:DAYLIGHT
BEGIN:STANDARD
TZOFFSETFROM:-0400
TZOFFSETTO:-0500
TZNAME:EST
DTSTART:20251102T060000
END:STANDARD
END:VTIMEZONE
BEGIN:VEVENT
DTSTART;VALUE=DATE:20240803
DTEND;VALUE=DATE:20240804
DTSTAMP:20260425T120206
CREATED:20240618T171738Z
LAST-MODIFIED:20240618T171738Z
UID:10003690-1722643200-1722729599@mounthopechurch.org
SUMMARY:Kids on the Go!
DESCRIPTION:
URL:https://mhc.churchcenter.com/registrations/events/category/74144#new_tab
LOCATION:Mount Hope Church\, 202 South Creyts Rd\, Lansing\, MI\, 48917\, United States
CATEGORIES:Kids,Outreach
ATTACH;FMTTYPE=image/jpeg:https://mounthopechurch.org/wp-content/uploads/2024/06/KOTG-v4-980x380-1.jpg
GEO:42.7325525;-84.6445883
X-APPLE-STRUCTURED-LOCATION;VALUE=URI;X-ADDRESS=Mount Hope Church 202 South Creyts Rd Lansing MI 48917 United States;X-APPLE-RADIUS=500;X-TITLE=202 South Creyts Rd:geo:-84.6445883,42.7325525
END:VEVENT
BEGIN:VEVENT
DTSTART;TZID=America/Detroit:20240804T103000
DTEND;TZID=America/Detroit:20240804T110000
DTSTAMP:20260425T120206
CREATED:20240711T190348Z
LAST-MODIFIED:20240711T190348Z
UID:10003692-1722767400-1722769200@mounthopechurch.org
SUMMARY:Water Baptism
DESCRIPTION:
URL:https://mhc.churchcenter.com/registrations/events/2272728#new_tab
LOCATION:Mount Hope Church\, 202 South Creyts Rd\, Lansing\, MI\, 48917\, United States
CATEGORIES:Featured
ATTACH;FMTTYPE=image/jpeg:https://mounthopechurch.org/wp-content/uploads/2023/11/Baptism4-980x380-1.jpg
GEO:42.7325525;-84.6445883
X-APPLE-STRUCTURED-LOCATION;VALUE=URI;X-ADDRESS=Mount Hope Church 202 South Creyts Rd Lansing MI 48917 United States;X-APPLE-RADIUS=500;X-TITLE=202 South Creyts Rd:geo:-84.6445883,42.7325525
END:VEVENT
BEGIN:VEVENT
DTSTART;TZID=America/Detroit:20240805T183000
DTEND;TZID=America/Detroit:20240805T200000
DTSTAMP:20260425T120206
CREATED:20190821T180054Z
LAST-MODIFIED:20190821T180054Z
UID:10003205-1722882600-1722888000@mounthopechurch.org
SUMMARY:Breaking Financial Bondage
DESCRIPTION:Learn how to get out of debt\, and develop a financially secure future so you can live your dream life free from financial bondage.
URL:https://mhc.churchcenter.com/registrations/events/286753#new_tab
LOCATION:Mount Hope Church\, 202 South Creyts Rd\, Lansing\, MI\, 48917\, United States
CATEGORIES:Classes
GEO:42.7325525;-84.6445883
X-APPLE-STRUCTURED-LOCATION;VALUE=URI;X-ADDRESS=Mount Hope Church 202 South Creyts Rd Lansing MI 48917 United States;X-APPLE-RADIUS=500;X-TITLE=202 South Creyts Rd:geo:-84.6445883,42.7325525
END:VEVENT
BEGIN:VEVENT
DTSTART;VALUE=DATE:20240811
DTEND;VALUE=DATE:20240812
DTSTAMP:20260425T120206
CREATED:20240503T185650Z
LAST-MODIFIED:20240607T171414Z
UID:10003682-1723334400-1723420799@mounthopechurch.org
SUMMARY:Family Fun Day
DESCRIPTION:
URL:http://mounthopechurch.org/familyfunday
LOCATION:Mount Hope Church\, 202 South Creyts Rd\, Lansing\, MI\, 48917\, United States
CATEGORIES:Downtown,Featured
ATTACH;FMTTYPE=image/jpeg:https://mounthopechurch.org/wp-content/uploads/2024/05/FFD24-980x380-2.jpg
GEO:42.7325525;-84.6445883
X-APPLE-STRUCTURED-LOCATION;VALUE=URI;X-ADDRESS=Mount Hope Church 202 South Creyts Rd Lansing MI 48917 United States;X-APPLE-RADIUS=500;X-TITLE=202 South Creyts Rd:geo:-84.6445883,42.7325525
END:VEVENT
BEGIN:VEVENT
DTSTART;TZID=America/Detroit:20240812T183000
DTEND;TZID=America/Detroit:20240812T200000
DTSTAMP:20260425T120206
CREATED:20190821T180054Z
LAST-MODIFIED:20190821T180054Z
UID:10003206-1723487400-1723492800@mounthopechurch.org
SUMMARY:Breaking Financial Bondage
DESCRIPTION:Learn how to get out of debt\, and develop a financially secure future so you can live your dream life free from financial bondage.
URL:https://mhc.churchcenter.com/registrations/events/286753#new_tab
LOCATION:Mount Hope Church\, 202 South Creyts Rd\, Lansing\, MI\, 48917\, United States
CATEGORIES:Classes
GEO:42.7325525;-84.6445883
X-APPLE-STRUCTURED-LOCATION;VALUE=URI;X-ADDRESS=Mount Hope Church 202 South Creyts Rd Lansing MI 48917 United States;X-APPLE-RADIUS=500;X-TITLE=202 South Creyts Rd:geo:-84.6445883,42.7325525
END:VEVENT
BEGIN:VEVENT
DTSTART;TZID=America/Detroit:20240817T090000
DTEND;TZID=America/Detroit:20240817T120000
DTSTAMP:20260425T120206
CREATED:20240126T164454Z
LAST-MODIFIED:20240126T164541Z
UID:10003642-1723885200-1723896000@mounthopechurch.org
SUMMARY:The King's Group
DESCRIPTION:
URL:https://mhc.churchcenter.com/registrations/events/campus/2676/category/47927#new_tab
LOCATION:Mount Hope Church\, 202 South Creyts Rd\, Lansing\, MI\, 48917\, United States
CATEGORIES:Outreach
ATTACH;FMTTYPE=image/jpeg:https://mounthopechurch.org/wp-content/uploads/2024/01/KingsGroup1-980x380-1.jpg
GEO:42.7325525;-84.6445883
X-APPLE-STRUCTURED-LOCATION;VALUE=URI;X-ADDRESS=Mount Hope Church 202 South Creyts Rd Lansing MI 48917 United States;X-APPLE-RADIUS=500;X-TITLE=202 South Creyts Rd:geo:-84.6445883,42.7325525
END:VEVENT
BEGIN:VEVENT
DTSTART;TZID=America/Detroit:20240817T090000
DTEND;TZID=America/Detroit:20240817T120000
DTSTAMP:20260425T120206
CREATED:20240812T172207Z
LAST-MODIFIED:20240812T172207Z
UID:10003693-1723885200-1723896000@mounthopechurch.org
SUMMARY:The King's Group - August 17\, 2024
DESCRIPTION:
URL:https://mhc.churchcenter.com/registrations/events/2449346
LOCATION:Mount Hope Church\, 202 South Creyts Rd\, Lansing\, MI\, 48917\, United States
CATEGORIES:Kings Group
ATTACH;FMTTYPE=image/jpeg:https://mounthopechurch.org/wp-content/uploads/2024/08/KingsGroup-1920x1080-1.jpg
GEO:42.7325525;-84.6445883
X-APPLE-STRUCTURED-LOCATION;VALUE=URI;X-ADDRESS=Mount Hope Church 202 South Creyts Rd Lansing MI 48917 United States;X-APPLE-RADIUS=500;X-TITLE=202 South Creyts Rd:geo:-84.6445883,42.7325525
END:VEVENT
BEGIN:VEVENT
DTSTART;TZID=America/Detroit:20240817T120000
DTEND;TZID=America/Detroit:20240817T140000
DTSTAMP:20260425T120206
CREATED:20240524T193424Z
LAST-MODIFIED:20240524T193424Z
UID:10003286-1723896000-1723903200@mounthopechurch.org
SUMMARY:Capital City Baby Shower
DESCRIPTION:
URL:https://mhc.churchcenter.com/registrations/events/2336593#new_tab
LOCATION:Mount Hope Church\, 202 South Creyts Rd\, Lansing\, MI\, 48917\, United States
CATEGORIES:Outreach
ATTACH;FMTTYPE=image/jpeg:https://mounthopechurch.org/wp-content/uploads/2024/05/BabyShower-August-980x380-1.jpg
GEO:42.7325525;-84.6445883
X-APPLE-STRUCTURED-LOCATION;VALUE=URI;X-ADDRESS=Mount Hope Church 202 South Creyts Rd Lansing MI 48917 United States;X-APPLE-RADIUS=500;X-TITLE=202 South Creyts Rd:geo:-84.6445883,42.7325525
END:VEVENT
BEGIN:VEVENT
DTSTART;TZID=America/Detroit:20240819T183000
DTEND;TZID=America/Detroit:20240819T200000
DTSTAMP:20260425T120206
CREATED:20190821T180054Z
LAST-MODIFIED:20190821T180054Z
UID:10003207-1724092200-1724097600@mounthopechurch.org
SUMMARY:Breaking Financial Bondage
DESCRIPTION:Learn how to get out of debt\, and develop a financially secure future so you can live your dream life free from financial bondage.
URL:https://mhc.churchcenter.com/registrations/events/286753#new_tab
LOCATION:Mount Hope Church\, 202 South Creyts Rd\, Lansing\, MI\, 48917\, United States
CATEGORIES:Classes
GEO:42.7325525;-84.6445883
X-APPLE-STRUCTURED-LOCATION;VALUE=URI;X-ADDRESS=Mount Hope Church 202 South Creyts Rd Lansing MI 48917 United States;X-APPLE-RADIUS=500;X-TITLE=202 South Creyts Rd:geo:-84.6445883,42.7325525
END:VEVENT
BEGIN:VEVENT
DTSTART;VALUE=DATE:20240825
DTEND;VALUE=DATE:20240826
DTSTAMP:20260425T120206
CREATED:20230721T142754Z
LAST-MODIFIED:20240607T171430Z
UID:10003589-1724544000-1724630399@mounthopechurch.org
SUMMARY:Special Guest: Peter Reeves
DESCRIPTION:
URL:http://mounthopechurch.org/peterreeves#new_tab
LOCATION:Mount Hope Church\, 202 South Creyts Rd\, Lansing\, MI\, 48917\, United States
CATEGORIES:Featured,Prayer
ATTACH;FMTTYPE=image/jpeg:https://mounthopechurch.org/wp-content/uploads/2023/07/PeterReeves24-980x380-1.jpg
GEO:42.7325525;-84.6445883
X-APPLE-STRUCTURED-LOCATION;VALUE=URI;X-ADDRESS=Mount Hope Church 202 South Creyts Rd Lansing MI 48917 United States;X-APPLE-RADIUS=500;X-TITLE=202 South Creyts Rd:geo:-84.6445883,42.7325525
END:VEVENT
BEGIN:VEVENT
DTSTART;TZID=America/Detroit:20240826T183000
DTEND;TZID=America/Detroit:20240826T200000
DTSTAMP:20260425T120206
CREATED:20190821T180054Z
LAST-MODIFIED:20190821T180054Z
UID:10003208-1724697000-1724702400@mounthopechurch.org
SUMMARY:Breaking Financial Bondage
DESCRIPTION:Learn how to get out of debt\, and develop a financially secure future so you can live your dream life free from financial bondage.
URL:https://mhc.churchcenter.com/registrations/events/286753#new_tab
LOCATION:Mount Hope Church\, 202 South Creyts Rd\, Lansing\, MI\, 48917\, United States
CATEGORIES:Classes
GEO:42.7325525;-84.6445883
X-APPLE-STRUCTURED-LOCATION;VALUE=URI;X-ADDRESS=Mount Hope Church 202 South Creyts Rd Lansing MI 48917 United States;X-APPLE-RADIUS=500;X-TITLE=202 South Creyts Rd:geo:-84.6445883,42.7325525
END:VEVENT
END:VCALENDAR