BEGIN:VCALENDAR
VERSION:2.0
PRODID:-//Mount Hope Church | Lansing, MI - ECPv6.15.20//NONSGML v1.0//EN
CALSCALE:GREGORIAN
METHOD:PUBLISH
X-WR-CALNAME:Mount Hope Church | Lansing, MI
X-ORIGINAL-URL:https://mounthopechurch.org
X-WR-CALDESC:Events for Mount Hope Church | Lansing, MI
REFRESH-INTERVAL;VALUE=DURATION:PT1H
X-Robots-Tag:noindex
X-PUBLISHED-TTL:PT1H
BEGIN:VTIMEZONE
TZID:America/Detroit
BEGIN:DAYLIGHT
TZOFFSETFROM:-0500
TZOFFSETTO:-0400
TZNAME:EDT
DTSTART:20230312T070000
END:DAYLIGHT
BEGIN:STANDARD
TZOFFSETFROM:-0400
TZOFFSETTO:-0500
TZNAME:EST
DTSTART:20231105T060000
END:STANDARD
BEGIN:DAYLIGHT
TZOFFSETFROM:-0500
TZOFFSETTO:-0400
TZNAME:EDT
DTSTART:20240310T070000
END:DAYLIGHT
BEGIN:STANDARD
TZOFFSETFROM:-0400
TZOFFSETTO:-0500
TZNAME:EST
DTSTART:20241103T060000
END:STANDARD
BEGIN:DAYLIGHT
TZOFFSETFROM:-0500
TZOFFSETTO:-0400
TZNAME:EDT
DTSTART:20250309T070000
END:DAYLIGHT
BEGIN:STANDARD
TZOFFSETFROM:-0400
TZOFFSETTO:-0500
TZNAME:EST
DTSTART:20251102T060000
END:STANDARD
END:VTIMEZONE
BEGIN:VEVENT
DTSTART;TZID=America/Detroit:20240901T103000
DTEND;TZID=America/Detroit:20240901T110000
DTSTAMP:20260425T104243
CREATED:20240805T092845Z
LAST-MODIFIED:20240722T143555Z
UID:10003694-1725186600-1725188400@mounthopechurch.org
SUMMARY:Water Baptism
DESCRIPTION:
URL:https://mhc.churchcenter.com/registrations/events/2272729#new_tab
LOCATION:Mount Hope Church\, 202 South Creyts Rd\, Lansing\, MI\, 48917\, United States
CATEGORIES:Featured
ATTACH;FMTTYPE=image/jpeg:https://mounthopechurch.org/wp-content/uploads/2024/07/Baptism6-24.jpg
GEO:42.7325525;-84.6445883
X-APPLE-STRUCTURED-LOCATION;VALUE=URI;X-ADDRESS=Mount Hope Church 202 South Creyts Rd Lansing MI 48917 United States;X-APPLE-RADIUS=500;X-TITLE=202 South Creyts Rd:geo:-84.6445883,42.7325525
END:VEVENT
BEGIN:VEVENT
DTSTART;TZID=America/Detroit:20240902T183000
DTEND;TZID=America/Detroit:20240902T200000
DTSTAMP:20260425T104243
CREATED:20190821T180054Z
LAST-MODIFIED:20190821T180054Z
UID:10003209-1725301800-1725307200@mounthopechurch.org
SUMMARY:Breaking Financial Bondage
DESCRIPTION:Learn how to get out of debt\, and develop a financially secure future so you can live your dream life free from financial bondage.
URL:https://mhc.churchcenter.com/registrations/events/286753#new_tab
LOCATION:Mount Hope Church\, 202 South Creyts Rd\, Lansing\, MI\, 48917\, United States
CATEGORIES:Classes
GEO:42.7325525;-84.6445883
X-APPLE-STRUCTURED-LOCATION;VALUE=URI;X-ADDRESS=Mount Hope Church 202 South Creyts Rd Lansing MI 48917 United States;X-APPLE-RADIUS=500;X-TITLE=202 South Creyts Rd:geo:-84.6445883,42.7325525
END:VEVENT
BEGIN:VEVENT
DTSTART;TZID=America/Detroit:20240909T183000
DTEND;TZID=America/Detroit:20240909T200000
DTSTAMP:20260425T104243
CREATED:20190821T180054Z
LAST-MODIFIED:20190821T180054Z
UID:10003210-1725906600-1725912000@mounthopechurch.org
SUMMARY:Breaking Financial Bondage
DESCRIPTION:Learn how to get out of debt\, and develop a financially secure future so you can live your dream life free from financial bondage.
URL:https://mhc.churchcenter.com/registrations/events/286753#new_tab
LOCATION:Mount Hope Church\, 202 South Creyts Rd\, Lansing\, MI\, 48917\, United States
CATEGORIES:Classes
GEO:42.7325525;-84.6445883
X-APPLE-STRUCTURED-LOCATION;VALUE=URI;X-ADDRESS=Mount Hope Church 202 South Creyts Rd Lansing MI 48917 United States;X-APPLE-RADIUS=500;X-TITLE=202 South Creyts Rd:geo:-84.6445883,42.7325525
END:VEVENT
BEGIN:VEVENT
DTSTART;TZID=America/Detroit:20240914T074500
DTEND;TZID=America/Detroit:20240914T103000
DTSTAMP:20260425T104243
CREATED:20240401T135129Z
LAST-MODIFIED:20240301T145249Z
UID:10003677-1726299900-1726309800@mounthopechurch.org
SUMMARY:Food Distribution Volunteer
DESCRIPTION:
URL:https://mhc.churchcenter.com/registrations/events/2201556#new_tab
LOCATION:Mount Hope Church\, 202 South Creyts Rd\, Lansing\, MI\, 48917\, United States
CATEGORIES:Outreach
ATTACH;FMTTYPE=image/jpeg:https://mounthopechurch.org/wp-content/uploads/2023/01/Food-Volunteer-980x380-1.jpg
GEO:42.7325525;-84.6445883
X-APPLE-STRUCTURED-LOCATION;VALUE=URI;X-ADDRESS=Mount Hope Church 202 South Creyts Rd Lansing MI 48917 United States;X-APPLE-RADIUS=500;X-TITLE=202 South Creyts Rd:geo:-84.6445883,42.7325525
END:VEVENT
BEGIN:VEVENT
DTSTART;TZID=America/Detroit:20240914T083000
DTEND;TZID=America/Detroit:20240914T103000
DTSTAMP:20260425T104243
CREATED:20240505T135407Z
LAST-MODIFIED:20240301T150010Z
UID:10003279-1726302600-1726309800@mounthopechurch.org
SUMMARY:Food Pick Up
DESCRIPTION:
URL:https://mounthopechurch.org/food-distribution
LOCATION:Mount Hope Church\, 202 South Creyts Rd\, Lansing\, MI\, 48917\, United States
CATEGORIES:Outreach
ATTACH;FMTTYPE=image/jpeg:https://mounthopechurch.org/wp-content/uploads/2022/05/FoodPickup.jpg
GEO:42.7325525;-84.6445883
X-APPLE-STRUCTURED-LOCATION;VALUE=URI;X-ADDRESS=Mount Hope Church 202 South Creyts Rd Lansing MI 48917 United States;X-APPLE-RADIUS=500;X-TITLE=202 South Creyts Rd:geo:-84.6445883,42.7325525
END:VEVENT
BEGIN:VEVENT
DTSTART;TZID=America/Detroit:20240914T150000
DTEND;TZID=America/Detroit:20240914T170000
DTSTAMP:20260425T104243
CREATED:20240604T183644Z
LAST-MODIFIED:20240822T150115Z
UID:10003684-1726326000-1726333200@mounthopechurch.org
SUMMARY:Family Talent Show (Downtown)
DESCRIPTION:
URL:https://mhc.churchcenter.com/registrations/events/2349008#new_tab
LOCATION:Mount Hope Church\, 202 South Creyts Rd\, Lansing\, MI\, 48917\, United States
CATEGORIES:Downtown
ATTACH;FMTTYPE=image/jpeg:https://mounthopechurch.org/wp-content/uploads/2024/06/FamilyTalentShow-980x380-1-scaled.jpg
GEO:42.7325525;-84.6445883
X-APPLE-STRUCTURED-LOCATION;VALUE=URI;X-ADDRESS=Mount Hope Church 202 South Creyts Rd Lansing MI 48917 United States;X-APPLE-RADIUS=500;X-TITLE=202 South Creyts Rd:geo:-84.6445883,42.7325525
END:VEVENT
BEGIN:VEVENT
DTSTART;TZID=America/Detroit:20240916T183000
DTEND;TZID=America/Detroit:20240916T200000
DTSTAMP:20260425T104243
CREATED:20190821T180054Z
LAST-MODIFIED:20190821T180054Z
UID:10003211-1726511400-1726516800@mounthopechurch.org
SUMMARY:Breaking Financial Bondage
DESCRIPTION:Learn how to get out of debt\, and develop a financially secure future so you can live your dream life free from financial bondage.
URL:https://mhc.churchcenter.com/registrations/events/286753#new_tab
LOCATION:Mount Hope Church\, 202 South Creyts Rd\, Lansing\, MI\, 48917\, United States
CATEGORIES:Classes
GEO:42.7325525;-84.6445883
X-APPLE-STRUCTURED-LOCATION;VALUE=URI;X-ADDRESS=Mount Hope Church 202 South Creyts Rd Lansing MI 48917 United States;X-APPLE-RADIUS=500;X-TITLE=202 South Creyts Rd:geo:-84.6445883,42.7325525
END:VEVENT
BEGIN:VEVENT
DTSTART;VALUE=DATE:20240921
DTEND;VALUE=DATE:20240922
DTSTAMP:20260425T104243
CREATED:20240618T171736Z
LAST-MODIFIED:20240618T171736Z
UID:10003688-1726876800-1726963199@mounthopechurch.org
SUMMARY:Kids on the Go!
DESCRIPTION:
URL:https://mhc.churchcenter.com/registrations/events/category/74144#new_tab
LOCATION:Mount Hope Church\, 202 South Creyts Rd\, Lansing\, MI\, 48917\, United States
CATEGORIES:Kids,Outreach
ATTACH;FMTTYPE=image/jpeg:https://mounthopechurch.org/wp-content/uploads/2024/06/KOTG-v2-980x380-1.jpg
GEO:42.7325525;-84.6445883
X-APPLE-STRUCTURED-LOCATION;VALUE=URI;X-ADDRESS=Mount Hope Church 202 South Creyts Rd Lansing MI 48917 United States;X-APPLE-RADIUS=500;X-TITLE=202 South Creyts Rd:geo:-84.6445883,42.7325525
END:VEVENT
BEGIN:VEVENT
DTSTART;TZID=America/Detroit:20240921T090000
DTEND;TZID=America/Detroit:20240921T120000
DTSTAMP:20260425T104243
CREATED:20240126T164454Z
LAST-MODIFIED:20240126T164541Z
UID:10003643-1726909200-1726920000@mounthopechurch.org
SUMMARY:The King's Group
DESCRIPTION:
URL:https://mhc.churchcenter.com/registrations/events/campus/2676/category/47927#new_tab
LOCATION:Mount Hope Church\, 202 South Creyts Rd\, Lansing\, MI\, 48917\, United States
CATEGORIES:Outreach
ATTACH;FMTTYPE=image/jpeg:https://mounthopechurch.org/wp-content/uploads/2024/01/KingsGroup1-980x380-1.jpg
GEO:42.7325525;-84.6445883
X-APPLE-STRUCTURED-LOCATION;VALUE=URI;X-ADDRESS=Mount Hope Church 202 South Creyts Rd Lansing MI 48917 United States;X-APPLE-RADIUS=500;X-TITLE=202 South Creyts Rd:geo:-84.6445883,42.7325525
END:VEVENT
BEGIN:VEVENT
DTSTART;TZID=America/Detroit:20240921T090000
DTEND;TZID=America/Detroit:20240921T120000
DTSTAMP:20260425T104243
CREATED:20240819T183441Z
LAST-MODIFIED:20240919T013003Z
UID:10003696-1726909200-1726920000@mounthopechurch.org
SUMMARY:King's Group - Risk Management From A Biblical Perspective
DESCRIPTION:
URL:https://mhc.churchcenter.com/registrations/events/2463600#new_tab
LOCATION:Mount Hope Church\, 202 South Creyts Rd\, Lansing\, MI\, 48917\, United States
CATEGORIES:Kings Group
ATTACH;FMTTYPE=image/jpeg:https://mounthopechurch.org/wp-content/uploads/2024/01/KingsGroup3-980x380-1.jpg
GEO:42.7325525;-84.6445883
X-APPLE-STRUCTURED-LOCATION;VALUE=URI;X-ADDRESS=Mount Hope Church 202 South Creyts Rd Lansing MI 48917 United States;X-APPLE-RADIUS=500;X-TITLE=202 South Creyts Rd:geo:-84.6445883,42.7325525
END:VEVENT
BEGIN:VEVENT
DTSTART;TZID=America/Detroit:20240922T180000
DTEND;TZID=America/Detroit:20240922T193000
DTSTAMP:20260425T104243
CREATED:20240718T142618Z
LAST-MODIFIED:20240718T142618Z
UID:10003691-1727028000-1727033400@mounthopechurch.org
SUMMARY:Family Worship Night
DESCRIPTION:
URL:https://mhc.churchcenter.com/registrations/events/2357332#new_tab
LOCATION:Mount Hope Church\, 202 South Creyts Rd\, Lansing\, MI\, 48917\, United States
CATEGORIES:Featured
ATTACH;FMTTYPE=image/jpeg:https://mounthopechurch.org/wp-content/uploads/2024/05/FWN-Title-980x380-1.jpg
GEO:42.7325525;-84.6445883
X-APPLE-STRUCTURED-LOCATION;VALUE=URI;X-ADDRESS=Mount Hope Church 202 South Creyts Rd Lansing MI 48917 United States;X-APPLE-RADIUS=500;X-TITLE=202 South Creyts Rd:geo:-84.6445883,42.7325525
END:VEVENT
BEGIN:VEVENT
DTSTART;TZID=America/Detroit:20240923T183000
DTEND;TZID=America/Detroit:20240923T200000
DTSTAMP:20260425T104243
CREATED:20190821T180054Z
LAST-MODIFIED:20190821T180054Z
UID:10003212-1727116200-1727121600@mounthopechurch.org
SUMMARY:Breaking Financial Bondage
DESCRIPTION:Learn how to get out of debt\, and develop a financially secure future so you can live your dream life free from financial bondage.
URL:https://mhc.churchcenter.com/registrations/events/286753#new_tab
LOCATION:Mount Hope Church\, 202 South Creyts Rd\, Lansing\, MI\, 48917\, United States
CATEGORIES:Classes
GEO:42.7325525;-84.6445883
X-APPLE-STRUCTURED-LOCATION;VALUE=URI;X-ADDRESS=Mount Hope Church 202 South Creyts Rd Lansing MI 48917 United States;X-APPLE-RADIUS=500;X-TITLE=202 South Creyts Rd:geo:-84.6445883,42.7325525
END:VEVENT
BEGIN:VEVENT
DTSTART;TZID=America/Detroit:20240928T110000
DTEND;TZID=America/Detroit:20240928T130000
DTSTAMP:20260425T104243
CREATED:20240607T192832Z
LAST-MODIFIED:20240607T192832Z
UID:10003686-1727521200-1727528400@mounthopechurch.org
SUMMARY:Love Our Neighbors
DESCRIPTION:
URL:https://mhc.churchcenter.com/registrations/events/2355726#new_tab
LOCATION:Mount Hope Church\, 202 South Creyts Rd\, Lansing\, MI\, 48917\, United States
CATEGORIES:Outreach
ATTACH;FMTTYPE=image/jpeg:https://mounthopechurch.org/wp-content/uploads/2024/06/LON24-980x380-1.jpg
GEO:42.7325525;-84.6445883
X-APPLE-STRUCTURED-LOCATION;VALUE=URI;X-ADDRESS=Mount Hope Church 202 South Creyts Rd Lansing MI 48917 United States;X-APPLE-RADIUS=500;X-TITLE=202 South Creyts Rd:geo:-84.6445883,42.7325525
END:VEVENT
BEGIN:VEVENT
DTSTART;TZID=America/Detroit:20240930T183000
DTEND;TZID=America/Detroit:20240930T200000
DTSTAMP:20260425T104243
CREATED:20190821T180054Z
LAST-MODIFIED:20190821T180054Z
UID:10003213-1727721000-1727726400@mounthopechurch.org
SUMMARY:Breaking Financial Bondage
DESCRIPTION:Learn how to get out of debt\, and develop a financially secure future so you can live your dream life free from financial bondage.
URL:https://mhc.churchcenter.com/registrations/events/286753#new_tab
LOCATION:Mount Hope Church\, 202 South Creyts Rd\, Lansing\, MI\, 48917\, United States
CATEGORIES:Classes
GEO:42.7325525;-84.6445883
X-APPLE-STRUCTURED-LOCATION;VALUE=URI;X-ADDRESS=Mount Hope Church 202 South Creyts Rd Lansing MI 48917 United States;X-APPLE-RADIUS=500;X-TITLE=202 South Creyts Rd:geo:-84.6445883,42.7325525
END:VEVENT
END:VCALENDAR