BEGIN:VCALENDAR
VERSION:2.0
PRODID:-//Mount Hope Church | Lansing, MI - ECPv6.15.20//NONSGML v1.0//EN
CALSCALE:GREGORIAN
METHOD:PUBLISH
X-WR-CALNAME:Mount Hope Church | Lansing, MI
X-ORIGINAL-URL:https://mounthopechurch.org
X-WR-CALDESC:Events for Mount Hope Church | Lansing, MI
REFRESH-INTERVAL;VALUE=DURATION:PT1H
X-Robots-Tag:noindex
X-PUBLISHED-TTL:PT1H
BEGIN:VTIMEZONE
TZID:America/Detroit
BEGIN:DAYLIGHT
TZOFFSETFROM:-0500
TZOFFSETTO:-0400
TZNAME:EDT
DTSTART:20230312T070000
END:DAYLIGHT
BEGIN:STANDARD
TZOFFSETFROM:-0400
TZOFFSETTO:-0500
TZNAME:EST
DTSTART:20231105T060000
END:STANDARD
BEGIN:DAYLIGHT
TZOFFSETFROM:-0500
TZOFFSETTO:-0400
TZNAME:EDT
DTSTART:20240310T070000
END:DAYLIGHT
BEGIN:STANDARD
TZOFFSETFROM:-0400
TZOFFSETTO:-0500
TZNAME:EST
DTSTART:20241103T060000
END:STANDARD
BEGIN:DAYLIGHT
TZOFFSETFROM:-0500
TZOFFSETTO:-0400
TZNAME:EDT
DTSTART:20250309T070000
END:DAYLIGHT
BEGIN:STANDARD
TZOFFSETFROM:-0400
TZOFFSETTO:-0500
TZNAME:EST
DTSTART:20251102T060000
END:STANDARD
END:VTIMEZONE
BEGIN:VEVENT
DTSTART;VALUE=DATE:20241201
DTEND;VALUE=DATE:20241226
DTSTAMP:20260425T071553
CREATED:20241018T153735Z
LAST-MODIFIED:20241213T190913Z
UID:10003711-1733011200-1735171199@mounthopechurch.org
SUMMARY:Christmas at Mount Hope Church
DESCRIPTION:
URL:https://mounthopechurch.org/christmas
LOCATION:MI
CATEGORIES:Featured
ATTACH;FMTTYPE=image/jpeg:https://mounthopechurch.org/wp-content/uploads/2024/10/JTTW-980x380-2.jpg
END:VEVENT
BEGIN:VEVENT
DTSTART;TZID=America/Detroit:20241201T103000
DTEND;TZID=America/Detroit:20241201T110000
DTSTAMP:20260425T071553
CREATED:20241104T092846Z
LAST-MODIFIED:20240722T143529Z
UID:10003713-1733049000-1733050800@mounthopechurch.org
SUMMARY:Water Baptism
DESCRIPTION:
URL:https://mhc.churchcenter.com/registrations/events/2272732#new_tab
LOCATION:Mount Hope Church\, 202 South Creyts Rd\, Lansing\, MI\, 48917\, United States
CATEGORIES:Featured
ATTACH;FMTTYPE=image/png:https://mounthopechurch.org/wp-content/uploads/2024/07/Baptism-15.png
GEO:42.7325525;-84.6445883
X-APPLE-STRUCTURED-LOCATION;VALUE=URI;X-ADDRESS=Mount Hope Church 202 South Creyts Rd Lansing MI 48917 United States;X-APPLE-RADIUS=500;X-TITLE=202 South Creyts Rd:geo:-84.6445883,42.7325525
END:VEVENT
BEGIN:VEVENT
DTSTART;TZID=America/Detroit:20241201T110000
DTEND;TZID=America/Detroit:20241201T113000
DTSTAMP:20260425T071553
CREATED:20241007T130035Z
LAST-MODIFIED:20240920T145838Z
UID:10003709-1733050800-1733052600@mounthopechurch.org
SUMMARY:Water Baptism (Downtown)
DESCRIPTION:
URL:https://mhc.churchcenter.com/registrations/events/2523600#new_tab
LOCATION:Mount Hope Church\, 202 South Creyts Rd\, Lansing\, MI\, 48917\, United States
CATEGORIES:Downtown
ATTACH;FMTTYPE=image/jpeg:https://mounthopechurch.org/wp-content/uploads/2022/05/Baptism22DT-4.jpg
GEO:42.7325525;-84.6445883
X-APPLE-STRUCTURED-LOCATION;VALUE=URI;X-ADDRESS=Mount Hope Church 202 South Creyts Rd Lansing MI 48917 United States;X-APPLE-RADIUS=500;X-TITLE=202 South Creyts Rd:geo:-84.6445883,42.7325525
END:VEVENT
BEGIN:VEVENT
DTSTART;TZID=America/Detroit:20241207T110000
DTEND;TZID=America/Detroit:20241207T130000
DTSTAMP:20260425T071553
CREATED:20240531T183735Z
LAST-MODIFIED:20241018T144614Z
UID:10003683-1733569200-1733576400@mounthopechurch.org
SUMMARY:Wrapping Presents
DESCRIPTION:
URL:https://mhc.churchcenter.com/registrations/events/2345699#new_tab
LOCATION:Mount Hope Church\, 202 South Creyts Rd\, Lansing\, MI\, 48917\, United States
CATEGORIES:Christmas,Outreach
ATTACH;FMTTYPE=image/jpeg:https://mounthopechurch.org/wp-content/uploads/2023/10/Wrapping-December-980x380-1.jpg
GEO:42.7325525;-84.6445883
X-APPLE-STRUCTURED-LOCATION;VALUE=URI;X-ADDRESS=Mount Hope Church 202 South Creyts Rd Lansing MI 48917 United States;X-APPLE-RADIUS=500;X-TITLE=202 South Creyts Rd:geo:-84.6445883,42.7325525
END:VEVENT
BEGIN:VEVENT
DTSTART;TZID=America/Detroit:20241208T100000
DTEND;TZID=America/Detroit:20241208T110000
DTSTAMP:20260425T071553
CREATED:20240610T121205Z
LAST-MODIFIED:20240925T180443Z
UID:10003687-1733652000-1733655600@mounthopechurch.org
SUMMARY:Child Dedication
DESCRIPTION:
URL:https://mhc.churchcenter.com/registrations/events/2531316#new_tab
LOCATION:Mount Hope Church\, 202 South Creyts Rd\, Lansing\, MI\, 48917\, United States
CATEGORIES:Kids
ATTACH;FMTTYPE=image/jpeg:https://mounthopechurch.org/wp-content/uploads/2023/06/ChildDedication-980x380-1.jpg
GEO:42.7325525;-84.6445883
X-APPLE-STRUCTURED-LOCATION;VALUE=URI;X-ADDRESS=Mount Hope Church 202 South Creyts Rd Lansing MI 48917 United States;X-APPLE-RADIUS=500;X-TITLE=202 South Creyts Rd:geo:-84.6445883,42.7325525
END:VEVENT
BEGIN:VEVENT
DTSTART;TZID=America/Detroit:20241214T140000
DTEND;TZID=America/Detroit:20241214T170000
DTSTAMP:20260425T071553
CREATED:20241015T192749Z
LAST-MODIFIED:20241018T144645Z
UID:10003710-1734184800-1734195600@mounthopechurch.org
SUMMARY:Community Christmas
DESCRIPTION:
URL:https://mhc.churchcenter.com/registrations/events/2495655#new_tab
LOCATION:MI
CATEGORIES:Christmas,Outreach
ATTACH;FMTTYPE=image/jpeg:https://mounthopechurch.org/wp-content/uploads/2024/10/ComChristmas24-December.jpg
END:VEVENT
BEGIN:VEVENT
DTSTART;TZID=America/Detroit:20241221T140000
DTEND;TZID=America/Detroit:20241221T160000
DTSTAMP:20260425T071553
CREATED:20241213T190749Z
LAST-MODIFIED:20241213T190749Z
UID:10003720-1734789600-1734796800@mounthopechurch.org
SUMMARY:Christmas Community Night
DESCRIPTION:
URL:https://mhc.churchcenter.com/registrations/events/2633340#new_tab
LOCATION:Mount Hope Church\, 202 South Creyts Rd\, Lansing\, MI\, 48917\, United States
CATEGORIES:Christmas,Featured
ATTACH;FMTTYPE=image/jpeg:https://mounthopechurch.org/wp-content/uploads/2024/12/TheChosen-980x380-1.jpg
GEO:42.7325525;-84.6445883
X-APPLE-STRUCTURED-LOCATION;VALUE=URI;X-ADDRESS=Mount Hope Church 202 South Creyts Rd Lansing MI 48917 United States;X-APPLE-RADIUS=500;X-TITLE=202 South Creyts Rd:geo:-84.6445883,42.7325525
END:VEVENT
BEGIN:VEVENT
DTSTART;TZID=America/Detroit:20241224T180000
DTEND;TZID=America/Detroit:20241224T190000
DTSTAMP:20260425T071553
CREATED:20241112T184517Z
LAST-MODIFIED:20241113T154331Z
UID:10003714-1735063200-1735066800@mounthopechurch.org
SUMMARY:Christmas Eve Service
DESCRIPTION:
URL:http://mounthopechurch.org/christmas
LOCATION:MI
CATEGORIES:Featured
ATTACH;FMTTYPE=image/jpeg:https://mounthopechurch.org/wp-content/uploads/2024/10/JTTW-eve-980x380-1.jpg
END:VEVENT
END:VCALENDAR