BEGIN:VCALENDAR
VERSION:2.0
PRODID:-//Mount Hope Church | Lansing, MI - ECPv6.15.20//NONSGML v1.0//EN
CALSCALE:GREGORIAN
METHOD:PUBLISH
X-WR-CALNAME:Mount Hope Church | Lansing, MI
X-ORIGINAL-URL:https://mounthopechurch.org
X-WR-CALDESC:Events for Mount Hope Church | Lansing, MI
REFRESH-INTERVAL;VALUE=DURATION:PT1H
X-Robots-Tag:noindex
X-PUBLISHED-TTL:PT1H
BEGIN:VTIMEZONE
TZID:America/Detroit
BEGIN:DAYLIGHT
TZOFFSETFROM:-0500
TZOFFSETTO:-0400
TZNAME:EDT
DTSTART:20240310T070000
END:DAYLIGHT
BEGIN:STANDARD
TZOFFSETFROM:-0400
TZOFFSETTO:-0500
TZNAME:EST
DTSTART:20241103T060000
END:STANDARD
BEGIN:DAYLIGHT
TZOFFSETFROM:-0500
TZOFFSETTO:-0400
TZNAME:EDT
DTSTART:20250309T070000
END:DAYLIGHT
BEGIN:STANDARD
TZOFFSETFROM:-0400
TZOFFSETTO:-0500
TZNAME:EST
DTSTART:20251102T060000
END:STANDARD
BEGIN:DAYLIGHT
TZOFFSETFROM:-0500
TZOFFSETTO:-0400
TZNAME:EDT
DTSTART:20260308T070000
END:DAYLIGHT
BEGIN:STANDARD
TZOFFSETFROM:-0400
TZOFFSETTO:-0500
TZNAME:EST
DTSTART:20261101T060000
END:STANDARD
END:VTIMEZONE
BEGIN:VEVENT
DTSTART;TZID=America/Detroit:20250601T100000
DTEND;TZID=America/Detroit:20250601T103000
DTSTAMP:20260424T234715
CREATED:20250505T145351Z
LAST-MODIFIED:20241113T160109Z
UID:10002272-1748772000-1748773800@mounthopechurch.org
SUMMARY:Water Baptism
DESCRIPTION:
URL:https://mhc.churchcenter.com/registrations/events/2612777#new_tab
LOCATION:MI
CATEGORIES:Featured
ATTACH;FMTTYPE=image/png:https://mounthopechurch.org/wp-content/uploads/2024/11/Baptism-June25.png
END:VEVENT
BEGIN:VEVENT
DTSTART;TZID=America/Detroit:20250607T093000
DTEND;TZID=America/Detroit:20250607T120000
DTSTAMP:20260424T234715
CREATED:20250523T194713Z
LAST-MODIFIED:20250523T194713Z
UID:10003753-1749288600-1749297600@mounthopechurch.org
SUMMARY:The King's Group - The Art of Rest
DESCRIPTION:
URL:https://mhc.churchcenter.com/registrations/signups/2949934#new_tab
LOCATION:Mount Hope Church\, 202 South Creyts Rd\, Lansing\, MI\, 48917\, United States
CATEGORIES:Kings Group
ATTACH;FMTTYPE=image/jpeg:https://mounthopechurch.org/wp-content/uploads/2024/11/KingsGroup3-980x380-1.jpg
GEO:42.7325525;-84.6445883
X-APPLE-STRUCTURED-LOCATION;VALUE=URI;X-ADDRESS=Mount Hope Church 202 South Creyts Rd Lansing MI 48917 United States;X-APPLE-RADIUS=500;X-TITLE=202 South Creyts Rd:geo:-84.6445883,42.7325525
END:VEVENT
BEGIN:VEVENT
DTSTART;TZID=America/Detroit:20250607T110000
DTEND;TZID=America/Detroit:20250607T130000
DTSTAMP:20260424T234715
CREATED:20250411T144450Z
LAST-MODIFIED:20250411T144450Z
UID:10003744-1749294000-1749301200@mounthopechurch.org
SUMMARY:Lansing River Clean Up
DESCRIPTION:
URL:https://mhc.churchcenter.com/registrations/events/2886763#new_tab
LOCATION:Mount Hope Church\, 202 South Creyts Rd\, Lansing\, MI\, 48917\, United States
CATEGORIES:Outreach
ATTACH;FMTTYPE=image/jpeg:https://mounthopechurch.org/wp-content/uploads/2023/05/River-June-web.jpg
GEO:42.7325525;-84.6445883
X-APPLE-STRUCTURED-LOCATION;VALUE=URI;X-ADDRESS=Mount Hope Church 202 South Creyts Rd Lansing MI 48917 United States;X-APPLE-RADIUS=500;X-TITLE=202 South Creyts Rd:geo:-84.6445883,42.7325525
END:VEVENT
BEGIN:VEVENT
DTSTART;TZID=America/Detroit:20250608T103000
DTEND;TZID=America/Detroit:20250608T110000
DTSTAMP:20260424T234715
CREATED:20250423T151218Z
LAST-MODIFIED:20250519T143706Z
UID:10003746-1749378600-1749380400@mounthopechurch.org
SUMMARY:Child Dedication
DESCRIPTION:
URL:https://mhc.churchcenter.com/registrations/events/2903858#new_tab
LOCATION:Mount Hope Church\, 202 South Creyts Rd\, Lansing\, MI\, 48917\, United States
CATEGORIES:Featured,Kids
ATTACH;FMTTYPE=image/jpeg:https://mounthopechurch.org/wp-content/uploads/2025/04/ChildDedication-980x380-1.jpg
GEO:42.7325525;-84.6445883
X-APPLE-STRUCTURED-LOCATION;VALUE=URI;X-ADDRESS=Mount Hope Church 202 South Creyts Rd Lansing MI 48917 United States;X-APPLE-RADIUS=500;X-TITLE=202 South Creyts Rd:geo:-84.6445883,42.7325525
END:VEVENT
BEGIN:VEVENT
DTSTART;VALUE=DATE:20250615
DTEND;VALUE=DATE:20250616
DTSTAMP:20260424T234715
CREATED:20250519T142242Z
LAST-MODIFIED:20250530T184816Z
UID:10003750-1749945600-1750031999@mounthopechurch.org
SUMMARY:Father's Day
DESCRIPTION:
URL:https://mounthopechurch.org/fathersday
LOCATION:Mount Hope Church\, 202 South Creyts Rd\, Lansing\, MI\, 48917\, United States
CATEGORIES:Featured
ATTACH;FMTTYPE=image/jpeg:https://mounthopechurch.org/wp-content/uploads/2025/05/FD252-980x380-1.jpg
GEO:42.7325525;-84.6445883
X-APPLE-STRUCTURED-LOCATION;VALUE=URI;X-ADDRESS=Mount Hope Church 202 South Creyts Rd Lansing MI 48917 United States;X-APPLE-RADIUS=500;X-TITLE=202 South Creyts Rd:geo:-84.6445883,42.7325525
END:VEVENT
BEGIN:VEVENT
DTSTART;TZID=America/Detroit:20250621T090000
DTEND;TZID=America/Detroit:20250621T160000
DTSTAMP:20260424T234715
CREATED:20250523T194344Z
LAST-MODIFIED:20250523T194344Z
UID:10003752-1750496400-1750521600@mounthopechurch.org
SUMMARY:Accelerate - ONE DAY Class
DESCRIPTION:
URL:https://mhc.churchcenter.com/registrations/signups/2960286#new_tab
LOCATION:Mount Hope Church\, 202 South Creyts Rd\, Lansing\, MI\, 48917\, United States
CATEGORIES:Classes,Featured
ATTACH;FMTTYPE=image/jpeg:https://mounthopechurch.org/wp-content/uploads/2025/05/Accelerate25-980x380-1.jpg
GEO:42.7325525;-84.6445883
X-APPLE-STRUCTURED-LOCATION;VALUE=URI;X-ADDRESS=Mount Hope Church 202 South Creyts Rd Lansing MI 48917 United States;X-APPLE-RADIUS=500;X-TITLE=202 South Creyts Rd:geo:-84.6445883,42.7325525
END:VEVENT
BEGIN:VEVENT
DTSTART;TZID=America/Detroit:20250625T190000
DTEND;TZID=America/Detroit:20250625T203000
DTSTAMP:20260424T234715
CREATED:20250424T151320Z
LAST-MODIFIED:20241113T161947Z
UID:10002269-1750878000-1750883400@mounthopechurch.org
SUMMARY:Women's Equip Night
DESCRIPTION:
URL:https://mhc.churchcenter.com/registrations/events/2612915#new_tab
LOCATION:MI
CATEGORIES:Womens Ministry
ATTACH;FMTTYPE=image/jpeg:https://mounthopechurch.org/wp-content/uploads/2023/12/WM-EquipGraphic-980x380-1.jpg
END:VEVENT
BEGIN:VEVENT
DTSTART;TZID=America/Detroit:20250628T084500
DTEND;TZID=America/Detroit:20250628T111500
DTSTAMP:20260424T234715
CREATED:20250429T191212Z
LAST-MODIFIED:20250429T191212Z
UID:10003748-1751100300-1751109300@mounthopechurch.org
SUMMARY:Food Distribution Volunteer
DESCRIPTION:
URL:https://mhc.churchcenter.com/registrations/events/2915465#new_tab
LOCATION:Mount Hope Church\, 202 South Creyts Rd\, Lansing\, MI\, 48917\, United States
CATEGORIES:Outreach
ATTACH;FMTTYPE=image/jpeg:https://mounthopechurch.org/wp-content/uploads/2023/01/Food-Volunteer-980x380-1.jpg
GEO:42.7325525;-84.6445883
X-APPLE-STRUCTURED-LOCATION;VALUE=URI;X-ADDRESS=Mount Hope Church 202 South Creyts Rd Lansing MI 48917 United States;X-APPLE-RADIUS=500;X-TITLE=202 South Creyts Rd:geo:-84.6445883,42.7325525
END:VEVENT
BEGIN:VEVENT
DTSTART;TZID=America/Detroit:20250628T090000
DTEND;TZID=America/Detroit:20250628T110000
DTSTAMP:20260424T234715
CREATED:20250429T191125Z
LAST-MODIFIED:20250625T162705Z
UID:10003747-1751101200-1751108400@mounthopechurch.org
SUMMARY:Free Food Distribution
DESCRIPTION:
URL:https://mounthopechurch.org/food-distribution
LOCATION:Mount Hope Church\, 202 South Creyts Rd\, Lansing\, MI\, 48917\, United States
CATEGORIES:Featured,Outreach
ATTACH;FMTTYPE=image/jpeg:https://mounthopechurch.org/wp-content/uploads/2022/05/FoodPickup.jpg
GEO:42.7325525;-84.6445883
X-APPLE-STRUCTURED-LOCATION;VALUE=URI;X-ADDRESS=Mount Hope Church 202 South Creyts Rd Lansing MI 48917 United States;X-APPLE-RADIUS=500;X-TITLE=202 South Creyts Rd:geo:-84.6445883,42.7325525
END:VEVENT
END:VCALENDAR