BEGIN:VCALENDAR
VERSION:2.0
PRODID:-//Mount Hope Church | Lansing, MI - ECPv6.15.20//NONSGML v1.0//EN
CALSCALE:GREGORIAN
METHOD:PUBLISH
X-WR-CALNAME:Mount Hope Church | Lansing, MI
X-ORIGINAL-URL:https://mounthopechurch.org
X-WR-CALDESC:Events for Mount Hope Church | Lansing, MI
REFRESH-INTERVAL;VALUE=DURATION:PT1H
X-Robots-Tag:noindex
X-PUBLISHED-TTL:PT1H
BEGIN:VTIMEZONE
TZID:America/Detroit
BEGIN:DAYLIGHT
TZOFFSETFROM:-0500
TZOFFSETTO:-0400
TZNAME:EDT
DTSTART:20240310T070000
END:DAYLIGHT
BEGIN:STANDARD
TZOFFSETFROM:-0400
TZOFFSETTO:-0500
TZNAME:EST
DTSTART:20241103T060000
END:STANDARD
BEGIN:DAYLIGHT
TZOFFSETFROM:-0500
TZOFFSETTO:-0400
TZNAME:EDT
DTSTART:20250309T070000
END:DAYLIGHT
BEGIN:STANDARD
TZOFFSETFROM:-0400
TZOFFSETTO:-0500
TZNAME:EST
DTSTART:20251102T060000
END:STANDARD
BEGIN:DAYLIGHT
TZOFFSETFROM:-0500
TZOFFSETTO:-0400
TZNAME:EDT
DTSTART:20260308T070000
END:DAYLIGHT
BEGIN:STANDARD
TZOFFSETFROM:-0400
TZOFFSETTO:-0500
TZNAME:EST
DTSTART:20261101T060000
END:STANDARD
END:VTIMEZONE
BEGIN:VEVENT
DTSTART;TZID=America/Detroit:20250802T093000
DTEND;TZID=America/Detroit:20250802T120000
DTSTAMP:20260424T211208
CREATED:20250625T162514Z
LAST-MODIFIED:20250711T141836Z
UID:10003761-1754127000-1754136000@mounthopechurch.org
SUMMARY:Do Likewise: The Creative Purpose Of Work (The King's Group)
DESCRIPTION:
URL:https://mhc.churchcenter.com/registrations/events/3008662#new_tab
LOCATION:Mount Hope Church\, 202 South Creyts Rd\, Lansing\, MI\, 48917\, United States
CATEGORIES:Kings Group
ATTACH;FMTTYPE=image/jpeg:https://mounthopechurch.org/wp-content/uploads/2024/11/KingsGroup1-980x380-1.jpg
GEO:42.7325525;-84.6445883
X-APPLE-STRUCTURED-LOCATION;VALUE=URI;X-ADDRESS=Mount Hope Church 202 South Creyts Rd Lansing MI 48917 United States;X-APPLE-RADIUS=500;X-TITLE=202 South Creyts Rd:geo:-84.6445883,42.7325525
END:VEVENT
BEGIN:VEVENT
DTSTART;TZID=America/Detroit:20250803T100000
DTEND;TZID=America/Detroit:20250803T103000
DTSTAMP:20260424T211208
CREATED:20250706T174205Z
LAST-MODIFIED:20250605T184904Z
UID:10003754-1754215200-1754217000@mounthopechurch.org
SUMMARY:Water Baptism
DESCRIPTION:
URL:https://mhc.churchcenter.com/registrations/events/2973326#new_tab
LOCATION:Mount Hope Church\, 202 South Creyts Rd\, Lansing\, MI\, 48917\, United States
CATEGORIES:Featured
ATTACH;FMTTYPE=image/png:https://mounthopechurch.org/wp-content/uploads/2024/11/Baptism-May25.png
GEO:42.7325525;-84.6445883
X-APPLE-STRUCTURED-LOCATION;VALUE=URI;X-ADDRESS=Mount Hope Church 202 South Creyts Rd Lansing MI 48917 United States;X-APPLE-RADIUS=500;X-TITLE=202 South Creyts Rd:geo:-84.6445883,42.7325525
END:VEVENT
BEGIN:VEVENT
DTSTART;TZID=America/Detroit:20250809T074500
DTEND;TZID=America/Detroit:20250809T110000
DTSTAMP:20260424T211208
CREATED:20250309T160352Z
LAST-MODIFIED:20241113T170731Z
UID:10002116-1754725500-1754737200@mounthopechurch.org
SUMMARY:Food Distribution Volunteer
DESCRIPTION:
URL:https://mhc.churchcenter.com/registrations/events/2613180#new_tab
LOCATION:MI
CATEGORIES:Outreach
ATTACH;FMTTYPE=image/jpeg:https://mounthopechurch.org/wp-content/uploads/2023/01/Food-Volunteer-980x380-1.jpg
END:VEVENT
BEGIN:VEVENT
DTSTART;TZID=America/Detroit:20250809T083000
DTEND;TZID=America/Detroit:20250809T103000
DTSTAMP:20260424T211208
CREATED:20250309T160456Z
LAST-MODIFIED:20250805T192513Z
UID:10002118-1754728200-1754735400@mounthopechurch.org
SUMMARY:Free Food Distribution Day
DESCRIPTION:
URL:http://mounthopechurch.org/food-distribution
LOCATION:MI
CATEGORIES:Featured,Outreach
ATTACH;FMTTYPE=image/jpeg:https://mounthopechurch.org/wp-content/uploads/2022/05/FoodPickup.jpg
END:VEVENT
BEGIN:VEVENT
DTSTART;VALUE=DATE:20250810
DTEND;VALUE=DATE:20250811
DTSTAMP:20260424T211208
CREATED:20250624T193913Z
LAST-MODIFIED:20250624T193913Z
UID:10003757-1754784000-1754870399@mounthopechurch.org
SUMMARY:Special Guest Jeremy Yancey
DESCRIPTION:
URL:http://mounthopechurch.org/teamnight#new_tab
LOCATION:Mount Hope Church\, 202 South Creyts Rd\, Lansing\, MI\, 48917\, United States
CATEGORIES:Featured
ATTACH;FMTTYPE=image/jpeg:https://mounthopechurch.org/wp-content/uploads/2025/06/TN25-JeremyYancey-980x380-1.jpg
GEO:42.7325525;-84.6445883
X-APPLE-STRUCTURED-LOCATION;VALUE=URI;X-ADDRESS=Mount Hope Church 202 South Creyts Rd Lansing MI 48917 United States;X-APPLE-RADIUS=500;X-TITLE=202 South Creyts Rd:geo:-84.6445883,42.7325525
END:VEVENT
BEGIN:VEVENT
DTSTART;TZID=America/Detroit:20250816T120000
DTEND;TZID=America/Detroit:20250816T140000
DTSTAMP:20260424T211208
CREATED:20250325T155442Z
LAST-MODIFIED:20250325T155442Z
UID:10003739-1755345600-1755352800@mounthopechurch.org
SUMMARY:Capital City Baby Shower (Volunteer)
DESCRIPTION:
URL:https://mhc.churchcenter.com/registrations/events/2853048#new_tab
LOCATION:Mount Hope Church\, 202 South Creyts Rd\, Lansing\, MI\, 48917\, United States
CATEGORIES:Outreach
ATTACH;FMTTYPE=image/jpeg:https://mounthopechurch.org/wp-content/uploads/2024/05/BabyShower-August-980x380-1.jpg
GEO:42.7325525;-84.6445883
X-APPLE-STRUCTURED-LOCATION;VALUE=URI;X-ADDRESS=Mount Hope Church 202 South Creyts Rd Lansing MI 48917 United States;X-APPLE-RADIUS=500;X-TITLE=202 South Creyts Rd:geo:-84.6445883,42.7325525
END:VEVENT
BEGIN:VEVENT
DTSTART;VALUE=DATE:20250824
DTEND;VALUE=DATE:20250825
DTSTAMP:20260424T211208
CREATED:20250625T144541Z
LAST-MODIFIED:20250625T144541Z
UID:10003758-1755993600-1756079999@mounthopechurch.org
SUMMARY:Special Guest: Peter Reeves
DESCRIPTION:
URL:https://mhc.churchcenter.com/registrations/events/3008316#new_tab
LOCATION:Mount Hope Church\, 202 South Creyts Rd\, Lansing\, MI\, 48917\, United States
CATEGORIES:Featured
ATTACH;FMTTYPE=image/jpeg:https://mounthopechurch.org/wp-content/uploads/2025/06/PeterReeves25-980x380-1.jpg
GEO:42.7325525;-84.6445883
X-APPLE-STRUCTURED-LOCATION;VALUE=URI;X-ADDRESS=Mount Hope Church 202 South Creyts Rd Lansing MI 48917 United States;X-APPLE-RADIUS=500;X-TITLE=202 South Creyts Rd:geo:-84.6445883,42.7325525
END:VEVENT
BEGIN:VEVENT
DTSTART;TZID=America/Detroit:20250824T093000
DTEND;TZID=America/Detroit:20250824T100000
DTSTAMP:20260424T211208
CREATED:20250819T143844Z
LAST-MODIFIED:20250819T143844Z
UID:10003773-1756027800-1756029600@mounthopechurch.org
SUMMARY:Life Group Host Orientation
DESCRIPTION:
URL:https://mhc.churchcenter.com/registrations/events/3097119#new_tab
LOCATION:Mount Hope Church\, 202 South Creyts Rd\, Lansing\, MI\, 48917\, United States
CATEGORIES:Classes
ATTACH;FMTTYPE=image/jpeg:https://mounthopechurch.org/wp-content/uploads/2025/08/KL-LifeGroupOrientation-980x380-1.jpg
GEO:42.7325525;-84.6445883
X-APPLE-STRUCTURED-LOCATION;VALUE=URI;X-ADDRESS=Mount Hope Church 202 South Creyts Rd Lansing MI 48917 United States;X-APPLE-RADIUS=500;X-TITLE=202 South Creyts Rd:geo:-84.6445883,42.7325525
END:VEVENT
END:VCALENDAR