BEGIN:VCALENDAR
VERSION:2.0
PRODID:-//Mount Hope Church | Lansing, MI - ECPv6.15.20//NONSGML v1.0//EN
CALSCALE:GREGORIAN
METHOD:PUBLISH
X-ORIGINAL-URL:https://mounthopechurch.org
X-WR-CALDESC:Events for Mount Hope Church | Lansing, MI
REFRESH-INTERVAL;VALUE=DURATION:PT1H
X-Robots-Tag:noindex
X-PUBLISHED-TTL:PT1H
BEGIN:VTIMEZONE
TZID:America/Detroit
BEGIN:DAYLIGHT
TZOFFSETFROM:-0500
TZOFFSETTO:-0400
TZNAME:EDT
DTSTART:20240310T070000
END:DAYLIGHT
BEGIN:STANDARD
TZOFFSETFROM:-0400
TZOFFSETTO:-0500
TZNAME:EST
DTSTART:20241103T060000
END:STANDARD
BEGIN:DAYLIGHT
TZOFFSETFROM:-0500
TZOFFSETTO:-0400
TZNAME:EDT
DTSTART:20250309T070000
END:DAYLIGHT
BEGIN:STANDARD
TZOFFSETFROM:-0400
TZOFFSETTO:-0500
TZNAME:EST
DTSTART:20251102T060000
END:STANDARD
BEGIN:DAYLIGHT
TZOFFSETFROM:-0500
TZOFFSETTO:-0400
TZNAME:EDT
DTSTART:20260308T070000
END:DAYLIGHT
BEGIN:STANDARD
TZOFFSETFROM:-0400
TZOFFSETTO:-0500
TZNAME:EST
DTSTART:20261101T060000
END:STANDARD
END:VTIMEZONE
BEGIN:VEVENT
DTSTART;VALUE=DATE:20250904
DTEND;VALUE=DATE:20251202
DTSTAMP:20260424T195647
CREATED:20250904T160401Z
LAST-MODIFIED:20250904T160943Z
UID:10003793-1756944000-1764633599@mounthopechurch.org
SUMMARY:Community Christmas Adoption
DESCRIPTION:
URL:https://mhc.churchcenter.com/registrations/events/3142230
LOCATION:Mount Hope Church\, 202 South Creyts Rd\, Lansing\, MI\, 48917\, United States
CATEGORIES:Christmas,Outreach
ATTACH;FMTTYPE=image/jpeg:https://mounthopechurch.org/wp-content/uploads/2025/09/AngelTree-2.jpg
GEO:42.7325525;-84.6445883
X-APPLE-STRUCTURED-LOCATION;VALUE=URI;X-ADDRESS=Mount Hope Church 202 South Creyts Rd Lansing MI 48917 United States;X-APPLE-RADIUS=500;X-TITLE=202 South Creyts Rd:geo:-84.6445883,42.7325525
END:VEVENT
BEGIN:VEVENT
DTSTART;TZID=America/Detroit:20250906T093000
DTEND;TZID=America/Detroit:20250906T120000
DTSTAMP:20260424T195647
CREATED:20250820T134755Z
LAST-MODIFIED:20250820T134755Z
UID:10003774-1757151000-1757160000@mounthopechurch.org
SUMMARY:Stewardship Series: Ideas
DESCRIPTION:
URL:https://mhc.churchcenter.com/registrations/events/3110583#new_tab
LOCATION:Mount Hope Church\, 202 South Creyts Rd\, Lansing\, MI\, 48917\, United States
CATEGORIES:Kings Group
ATTACH;FMTTYPE=image/jpeg:https://mounthopechurch.org/wp-content/uploads/2024/11/KingsGroup3-980x380-1.jpg
GEO:42.7325525;-84.6445883
X-APPLE-STRUCTURED-LOCATION;VALUE=URI;X-ADDRESS=Mount Hope Church 202 South Creyts Rd Lansing MI 48917 United States;X-APPLE-RADIUS=500;X-TITLE=202 South Creyts Rd:geo:-84.6445883,42.7325525
END:VEVENT
BEGIN:VEVENT
DTSTART;VALUE=DATE:20250907
DTEND;VALUE=DATE:20250908
DTSTAMP:20260424T195647
CREATED:20250806T195844Z
LAST-MODIFIED:20250806T195844Z
UID:10003772-1757203200-1757289599@mounthopechurch.org
SUMMARY:Life Group Launch
DESCRIPTION:
URL:http://mounthopechurch.org/kingdom-living
LOCATION:Mount Hope Church\, 202 South Creyts Rd\, Lansing\, MI\, 48917\, United States
CATEGORIES:Classes,Featured
ATTACH;FMTTYPE=image/jpeg:https://mounthopechurch.org/wp-content/uploads/2025/08/KL-980x380-1.jpg
GEO:42.7325525;-84.6445883
X-APPLE-STRUCTURED-LOCATION;VALUE=URI;X-ADDRESS=Mount Hope Church 202 South Creyts Rd Lansing MI 48917 United States;X-APPLE-RADIUS=500;X-TITLE=202 South Creyts Rd:geo:-84.6445883,42.7325525
END:VEVENT
BEGIN:VEVENT
DTSTART;TZID=America/Detroit:20250907T103000
DTEND;TZID=America/Detroit:20250907T110000
DTSTAMP:20260424T195647
CREATED:20250731T131924Z
LAST-MODIFIED:20250731T131924Z
UID:10003770-1757241000-1757242800@mounthopechurch.org
SUMMARY:Water Baptism
DESCRIPTION:
URL:https://mhc.churchcenter.com/registrations/events/3069213#new_tab
LOCATION:Mount Hope Church\, 202 South Creyts Rd\, Lansing\, MI\, 48917\, United States
CATEGORIES:Featured
ATTACH;FMTTYPE=image/png:https://mounthopechurch.org/wp-content/uploads/2024/11/Baptism-March25.png
GEO:42.7325525;-84.6445883
X-APPLE-STRUCTURED-LOCATION;VALUE=URI;X-ADDRESS=Mount Hope Church 202 South Creyts Rd Lansing MI 48917 United States;X-APPLE-RADIUS=500;X-TITLE=202 South Creyts Rd:geo:-84.6445883,42.7325525
END:VEVENT
BEGIN:VEVENT
DTSTART;TZID=America/Detroit:20250911T183000
DTEND;TZID=America/Detroit:20250911T200000
DTSTAMP:20260424T195647
CREATED:20250730T173958Z
LAST-MODIFIED:20250904T143225Z
UID:10003765-1757615400-1757620800@mounthopechurch.org
SUMMARY:Mountain Movers - Healing & Deliverance Ministry Equip Nights
DESCRIPTION:
URL:https://mhc.churchcenter.com/registrations/events/3067330#new_tab
LOCATION:Mount Hope Church\, 202 South Creyts Rd\, Lansing\, MI\, 48917\, United States
CATEGORIES:Classes
ATTACH;FMTTYPE=image/jpeg:https://mounthopechurch.org/wp-content/uploads/2025/07/MM-Equip-980x380-1.jpg
GEO:42.7325525;-84.6445883
X-APPLE-STRUCTURED-LOCATION;VALUE=URI;X-ADDRESS=Mount Hope Church 202 South Creyts Rd Lansing MI 48917 United States;X-APPLE-RADIUS=500;X-TITLE=202 South Creyts Rd:geo:-84.6445883,42.7325525
END:VEVENT
BEGIN:VEVENT
DTSTART;TZID=America/Detroit:20250913T074500
DTEND;TZID=America/Detroit:20250913T110000
DTSTAMP:20260424T195647
CREATED:20250713T160353Z
LAST-MODIFIED:20241113T170827Z
UID:10002273-1757749500-1757761200@mounthopechurch.org
SUMMARY:Food Distribution Volunteer
DESCRIPTION:
URL:https://mhc.churchcenter.com/registrations/events/2613183#new_tab
LOCATION:MI
CATEGORIES:Outreach
ATTACH;FMTTYPE=image/jpeg:https://mounthopechurch.org/wp-content/uploads/2023/01/Food-Volunteer-980x380-1.jpg
END:VEVENT
BEGIN:VEVENT
DTSTART;TZID=America/Detroit:20250913T083000
DTEND;TZID=America/Detroit:20250913T103000
DTSTAMP:20260424T195647
CREATED:20250713T160457Z
LAST-MODIFIED:20250908T175239Z
UID:10002276-1757752200-1757759400@mounthopechurch.org
SUMMARY:Free Food Distribution Day
DESCRIPTION:
URL:http://mounthopechurch.org/food-distribution
LOCATION:MI
CATEGORIES:Featured,Outreach
ATTACH;FMTTYPE=image/jpeg:https://mounthopechurch.org/wp-content/uploads/2022/05/FoodPickup.jpg
END:VEVENT
BEGIN:VEVENT
DTSTART;TZID=America/Detroit:20250914T103000
DTEND;TZID=America/Detroit:20250914T110000
DTSTAMP:20260424T195647
CREATED:20250731T133012Z
LAST-MODIFIED:20250908T174723Z
UID:10003771-1757845800-1757847600@mounthopechurch.org
SUMMARY:Child Dedication
DESCRIPTION:
URL:https://mhc.churchcenter.com/registrations/events/3069242#new_tab
LOCATION:Mount Hope Church\, 202 South Creyts Rd\, Lansing\, MI\, 48917\, United States
CATEGORIES:Featured,Kids
ATTACH;FMTTYPE=image/jpeg:https://mounthopechurch.org/wp-content/uploads/2025/04/ChildDedication-980x380-1.jpg
GEO:42.7325525;-84.6445883
X-APPLE-STRUCTURED-LOCATION;VALUE=URI;X-ADDRESS=Mount Hope Church 202 South Creyts Rd Lansing MI 48917 United States;X-APPLE-RADIUS=500;X-TITLE=202 South Creyts Rd:geo:-84.6445883,42.7325525
END:VEVENT
BEGIN:VEVENT
DTSTART;TZID=America/Detroit:20250920T110000
DTEND;TZID=America/Detroit:20250920T130000
DTSTAMP:20260424T195647
CREATED:20250829T170828Z
LAST-MODIFIED:20250829T171146Z
UID:10003787-1758366000-1758373200@mounthopechurch.org
SUMMARY:Free Giveaway - Household Items PREP
DESCRIPTION:
URL:https://mhc.churchcenter.com/registrations/events/3132042#new_tab
LOCATION:Mount Hope Church\, 202 South Creyts Rd\, Lansing\, MI\, 48917\, United States
CATEGORIES:Outreach
ATTACH;FMTTYPE=image/jpeg:https://mounthopechurch.org/wp-content/uploads/2025/08/HouseholdItems-Prep25-Sept-980x380-1.jpg
GEO:42.7325525;-84.6445883
X-APPLE-STRUCTURED-LOCATION;VALUE=URI;X-ADDRESS=Mount Hope Church 202 South Creyts Rd Lansing MI 48917 United States;X-APPLE-RADIUS=500;X-TITLE=202 South Creyts Rd:geo:-84.6445883,42.7325525
END:VEVENT
BEGIN:VEVENT
DTSTART;TZID=America/Detroit:20250921T120000
DTEND;TZID=America/Detroit:20250921T130000
DTSTAMP:20260424T195647
CREATED:20250829T170908Z
LAST-MODIFIED:20250829T171127Z
UID:10003788-1758456000-1758459600@mounthopechurch.org
SUMMARY:Free Household Items Giveaway
DESCRIPTION:
URL:https://mhc.churchcenter.com/registrations/events/3132053#new_tab
LOCATION:Mount Hope Church\, 202 South Creyts Rd\, Lansing\, MI\, 48917\, United States
CATEGORIES:Outreach
ATTACH;FMTTYPE=image/jpeg:https://mounthopechurch.org/wp-content/uploads/2025/08/HouseholdItems-Event25-Sept-980x380-1.jpg
GEO:42.7325525;-84.6445883
X-APPLE-STRUCTURED-LOCATION;VALUE=URI;X-ADDRESS=Mount Hope Church 202 South Creyts Rd Lansing MI 48917 United States;X-APPLE-RADIUS=500;X-TITLE=202 South Creyts Rd:geo:-84.6445883,42.7325525
END:VEVENT
BEGIN:VEVENT
DTSTART;TZID=America/Detroit:20250924T190000
DTEND;TZID=America/Detroit:20250924T203000
DTSTAMP:20260424T195647
CREATED:20250820T140829Z
LAST-MODIFIED:20250820T140829Z
UID:10003778-1758740400-1758745800@mounthopechurch.org
SUMMARY:Women's Ministry - Equip Night
DESCRIPTION:
URL:https://mhc.churchcenter.com/registrations/events/3110667#new_tab
LOCATION:Mount Hope Church\, 202 South Creyts Rd\, Lansing\, MI\, 48917\, United States
CATEGORIES:Womens Ministry
ATTACH;FMTTYPE=image/jpeg:https://mounthopechurch.org/wp-content/uploads/2025/08/WM-EquipGraphic-980x380-1.jpg
GEO:42.7325525;-84.6445883
X-APPLE-STRUCTURED-LOCATION;VALUE=URI;X-ADDRESS=Mount Hope Church 202 South Creyts Rd Lansing MI 48917 United States;X-APPLE-RADIUS=500;X-TITLE=202 South Creyts Rd:geo:-84.6445883,42.7325525
END:VEVENT
END:VCALENDAR