BEGIN:VCALENDAR
VERSION:2.0
PRODID:-//Mount Hope Church | Lansing, MI - ECPv6.15.20//NONSGML v1.0//EN
CALSCALE:GREGORIAN
METHOD:PUBLISH
X-WR-CALNAME:Mount Hope Church | Lansing, MI
X-ORIGINAL-URL:https://mounthopechurch.org
X-WR-CALDESC:Events for Mount Hope Church | Lansing, MI
REFRESH-INTERVAL;VALUE=DURATION:PT1H
X-Robots-Tag:noindex
X-PUBLISHED-TTL:PT1H
BEGIN:VTIMEZONE
TZID:America/Detroit
BEGIN:DAYLIGHT
TZOFFSETFROM:-0500
TZOFFSETTO:-0400
TZNAME:EDT
DTSTART:20250309T070000
END:DAYLIGHT
BEGIN:STANDARD
TZOFFSETFROM:-0400
TZOFFSETTO:-0500
TZNAME:EST
DTSTART:20251102T060000
END:STANDARD
BEGIN:DAYLIGHT
TZOFFSETFROM:-0500
TZOFFSETTO:-0400
TZNAME:EDT
DTSTART:20260308T070000
END:DAYLIGHT
BEGIN:STANDARD
TZOFFSETFROM:-0400
TZOFFSETTO:-0500
TZNAME:EST
DTSTART:20261101T060000
END:STANDARD
BEGIN:DAYLIGHT
TZOFFSETFROM:-0500
TZOFFSETTO:-0400
TZNAME:EDT
DTSTART:20270314T070000
END:DAYLIGHT
BEGIN:STANDARD
TZOFFSETFROM:-0400
TZOFFSETTO:-0500
TZNAME:EST
DTSTART:20271107T060000
END:STANDARD
END:VTIMEZONE
BEGIN:VEVENT
DTSTART;TZID=America/Detroit:20260502T100000
DTEND;TZID=America/Detroit:20260502T120000
DTSTAMP:20260424T125538
CREATED:20260316T152255Z
LAST-MODIFIED:20260326T174904Z
UID:10003863-1777716000-1777723200@mounthopechurch.org
SUMMARY:Team Brunch & Teaching w/ Shane Willard
DESCRIPTION:
URL:https://mhc.churchcenter.com/registrations/events/3519073
LOCATION:Mount Hope Church\, 202 South Creyts Rd\, Lansing\, MI\, 48917\, United States
CATEGORIES:Featured
ATTACH;FMTTYPE=image/jpeg:https://mounthopechurch.org/wp-content/uploads/2026/03/sw-web2.jpg
GEO:42.7325525;-84.6445883
X-APPLE-STRUCTURED-LOCATION;VALUE=URI;X-ADDRESS=Mount Hope Church 202 South Creyts Rd Lansing MI 48917 United States;X-APPLE-RADIUS=500;X-TITLE=202 South Creyts Rd:geo:-84.6445883,42.7325525
END:VEVENT
BEGIN:VEVENT
DTSTART;VALUE=DATE:20260503
DTEND;VALUE=DATE:20260504
DTSTAMP:20260424T125538
CREATED:20260316T151349Z
LAST-MODIFIED:20260316T151349Z
UID:10003862-1777766400-1777852799@mounthopechurch.org
SUMMARY:Guest Shane Willard
DESCRIPTION:
URL:https://mounthopechurch.org/shane-willard
LOCATION:Mount Hope Church\, 202 South Creyts Rd\, Lansing\, MI\, 48917\, United States
CATEGORIES:Featured
ATTACH;FMTTYPE=image/jpeg:https://mounthopechurch.org/wp-content/uploads/2026/03/sw-web.jpg
GEO:42.7325525;-84.6445883
X-APPLE-STRUCTURED-LOCATION;VALUE=URI;X-ADDRESS=Mount Hope Church 202 South Creyts Rd Lansing MI 48917 United States;X-APPLE-RADIUS=500;X-TITLE=202 South Creyts Rd:geo:-84.6445883,42.7325525
END:VEVENT
BEGIN:VEVENT
DTSTART;TZID=America/Detroit:20260503T100000
DTEND;TZID=America/Detroit:20260503T103000
DTSTAMP:20260424T125538
CREATED:20260406T092854Z
LAST-MODIFIED:20260408T170347Z
UID:10003828-1777802400-1777804200@mounthopechurch.org
SUMMARY:Water Baptism
DESCRIPTION:
URL:https://mhc.churchcenter.com/registrations/events/3364852#new_tab
LOCATION:Mount Hope Church\, 202 South Creyts Rd\, Lansing\, MI\, 48917\, United States
CATEGORIES:Featured
ATTACH;FMTTYPE=image/jpeg:https://mounthopechurch.org/wp-content/uploads/2026/01/BaptismMay-980x380-1.jpg
GEO:42.7325525;-84.6445883
X-APPLE-STRUCTURED-LOCATION;VALUE=URI;X-ADDRESS=Mount Hope Church 202 South Creyts Rd Lansing MI 48917 United States;X-APPLE-RADIUS=500;X-TITLE=202 South Creyts Rd:geo:-84.6445883,42.7325525
END:VEVENT
BEGIN:VEVENT
DTSTART;TZID=America/Detroit:20260503T100000
DTEND;TZID=America/Detroit:20260503T103000
DTSTAMP:20260424T125538
CREATED:20260408T170856Z
LAST-MODIFIED:20260408T171558Z
UID:10003882-1777802400-1777804200@mounthopechurch.org
SUMMARY:Water Baptism (Downtown Campus)
DESCRIPTION:
URL:https://mhc.churchcenter.com/registrations/events/3505717#new_tab
LOCATION:Mount Hope Church\, 202 South Creyts Rd\, Lansing\, MI\, 48917\, United States
CATEGORIES:Downtown
ATTACH;FMTTYPE=image/png:https://mounthopechurch.org/wp-content/uploads/2024/11/Baptism-June25.png
GEO:42.7325525;-84.6445883
X-APPLE-STRUCTURED-LOCATION;VALUE=URI;X-ADDRESS=Mount Hope Church 202 South Creyts Rd Lansing MI 48917 United States;X-APPLE-RADIUS=500;X-TITLE=202 South Creyts Rd:geo:-84.6445883,42.7325525
END:VEVENT
BEGIN:VEVENT
DTSTART;TZID=America/Detroit:20260509T093000
DTEND;TZID=America/Detroit:20260509T120000
DTSTAMP:20260424T125538
CREATED:20260405T095109Z
LAST-MODIFIED:20260420T195742Z
UID:10003840-1778319000-1778328000@mounthopechurch.org
SUMMARY:The King's Group
DESCRIPTION:
URL:https://mhc.churchcenter.com/registrations/events/3365020#new_tab
LOCATION:Mount Hope Church\, 202 South Creyts Rd\, Lansing\, MI\, 48917\, United States
CATEGORIES:Kings Group
ATTACH;FMTTYPE=image/jpeg:https://mounthopechurch.org/wp-content/uploads/2024/11/KingsGroup1-980x380-1.jpg
GEO:42.7325525;-84.6445883
X-APPLE-STRUCTURED-LOCATION;VALUE=URI;X-ADDRESS=Mount Hope Church 202 South Creyts Rd Lansing MI 48917 United States;X-APPLE-RADIUS=500;X-TITLE=202 South Creyts Rd:geo:-84.6445883,42.7325525
END:VEVENT
BEGIN:VEVENT
DTSTART;VALUE=DATE:20260510
DTEND;VALUE=DATE:20260511
DTSTAMP:20260424T125538
CREATED:20260316T145558Z
LAST-MODIFIED:20260316T150114Z
UID:10003861-1778371200-1778457599@mounthopechurch.org
SUMMARY:Mother's Day
DESCRIPTION:
URL:https://mounthopechurch.org/mothersday
LOCATION:Mount Hope Church\, 202 South Creyts Rd\, Lansing\, MI\, 48917\, United States
CATEGORIES:Featured
ATTACH;FMTTYPE=image/jpeg:https://mounthopechurch.org/wp-content/uploads/2026/05/MD-events.jpg
GEO:42.7325525;-84.6445883
X-APPLE-STRUCTURED-LOCATION;VALUE=URI;X-ADDRESS=Mount Hope Church 202 South Creyts Rd Lansing MI 48917 United States;X-APPLE-RADIUS=500;X-TITLE=202 South Creyts Rd:geo:-84.6445883,42.7325525
END:VEVENT
BEGIN:VEVENT
DTSTART;TZID=America/Detroit:20260513T190000
DTEND;TZID=America/Detroit:20260513T203000
DTSTAMP:20260424T125538
CREATED:20260326T151745Z
LAST-MODIFIED:20260422T023550Z
UID:10003872-1778698800-1778704200@mounthopechurch.org
SUMMARY:Mountain Movers - Freedom Equip Nights
DESCRIPTION:
URL:https://mhc.churchcenter.com/registrations/events/3505956#new_tab
LOCATION:Mount Hope Church\, 202 South Creyts Rd\, Lansing\, MI\, 48917\, United States
CATEGORIES:Classes,Featured
ATTACH;FMTTYPE=image/jpeg:https://mounthopechurch.org/wp-content/uploads/2026/03/MM-web.jpg
GEO:42.7325525;-84.6445883
X-APPLE-STRUCTURED-LOCATION;VALUE=URI;X-ADDRESS=Mount Hope Church 202 South Creyts Rd Lansing MI 48917 United States;X-APPLE-RADIUS=500;X-TITLE=202 South Creyts Rd:geo:-84.6445883,42.7325525
END:VEVENT
BEGIN:VEVENT
DTSTART;TZID=America/Detroit:20260516T100000
DTEND;TZID=America/Detroit:20260516T140000
DTSTAMP:20260424T125538
CREATED:20260128T035747Z
LAST-MODIFIED:20260415T001841Z
UID:10003852-1778925600-1778940000@mounthopechurch.org
SUMMARY:Community Garden
DESCRIPTION:
URL:https://mhc.churchcenter.com/registrations/events/3426090#new_tab
LOCATION:Mount Hope Church\, 202 South Creyts Rd\, Lansing\, MI\, 48917\, United States
CATEGORIES:Featured,Outreach
ATTACH;FMTTYPE=image/jpeg:https://mounthopechurch.org/wp-content/uploads/2026/01/CommGarden-May-980x380-1.jpg
GEO:42.7325525;-84.6445883
X-APPLE-STRUCTURED-LOCATION;VALUE=URI;X-ADDRESS=Mount Hope Church 202 South Creyts Rd Lansing MI 48917 United States;X-APPLE-RADIUS=500;X-TITLE=202 South Creyts Rd:geo:-84.6445883,42.7325525
END:VEVENT
BEGIN:VEVENT
DTSTART;TZID=America/Detroit:20260527T190000
DTEND;TZID=America/Detroit:20260527T203000
DTSTAMP:20260424T125538
CREATED:20260423T093640Z
LAST-MODIFIED:20260105T174017Z
UID:10003833-1779908400-1779913800@mounthopechurch.org
SUMMARY:Women's Ministry - Equip Night
DESCRIPTION:
URL:https://mhc.churchcenter.com/registrations/events/3364930#new_tab
LOCATION:Mount Hope Church\, 202 South Creyts Rd\, Lansing\, MI\, 48917\, United States
CATEGORIES:Womens Ministry
ATTACH;FMTTYPE=image/jpeg:https://mounthopechurch.org/wp-content/uploads/2025/08/WM-EquipGraphic-980x380-1.jpg
GEO:42.7325525;-84.6445883
X-APPLE-STRUCTURED-LOCATION;VALUE=URI;X-ADDRESS=Mount Hope Church 202 South Creyts Rd Lansing MI 48917 United States;X-APPLE-RADIUS=500;X-TITLE=202 South Creyts Rd:geo:-84.6445883,42.7325525
END:VEVENT
END:VCALENDAR