BEGIN:VCALENDAR
VERSION:2.0
PRODID:-//Mount Hope Church | Lansing, MI - ECPv6.15.20//NONSGML v1.0//EN
CALSCALE:GREGORIAN
METHOD:PUBLISH
X-ORIGINAL-URL:https://mounthopechurch.org
X-WR-CALDESC:Events for Mount Hope Church | Lansing, MI
REFRESH-INTERVAL;VALUE=DURATION:PT1H
X-Robots-Tag:noindex
X-PUBLISHED-TTL:PT1H
BEGIN:VTIMEZONE
TZID:America/Detroit
BEGIN:DAYLIGHT
TZOFFSETFROM:-0500
TZOFFSETTO:-0400
TZNAME:EDT
DTSTART:20240310T070000
END:DAYLIGHT
BEGIN:STANDARD
TZOFFSETFROM:-0400
TZOFFSETTO:-0500
TZNAME:EST
DTSTART:20241103T060000
END:STANDARD
BEGIN:DAYLIGHT
TZOFFSETFROM:-0500
TZOFFSETTO:-0400
TZNAME:EDT
DTSTART:20250309T070000
END:DAYLIGHT
BEGIN:STANDARD
TZOFFSETFROM:-0400
TZOFFSETTO:-0500
TZNAME:EST
DTSTART:20251102T060000
END:STANDARD
BEGIN:DAYLIGHT
TZOFFSETFROM:-0500
TZOFFSETTO:-0400
TZNAME:EDT
DTSTART:20260308T070000
END:DAYLIGHT
BEGIN:STANDARD
TZOFFSETFROM:-0400
TZOFFSETTO:-0500
TZNAME:EST
DTSTART:20261101T060000
END:STANDARD
END:VTIMEZONE
BEGIN:VEVENT
DTSTART;TZID=America/Detroit:20250202T100000
DTEND;TZID=America/Detroit:20250202T103000
DTSTAMP:20260425T071553
CREATED:20250106T155349Z
LAST-MODIFIED:20241113T155746Z
UID:10002102-1738490400-1738492200@mounthopechurch.org
SUMMARY:Water Baptism
DESCRIPTION:
URL:https://mhc.churchcenter.com/registrations/events/2612770#new_tab
LOCATION:MI
CATEGORIES:Featured
ATTACH;FMTTYPE=image/png:https://mounthopechurch.org/wp-content/uploads/2024/11/Baptism-Feb25.png
END:VEVENT
BEGIN:VEVENT
DTSTART;TZID=America/Detroit:20250202T110000
DTEND;TZID=America/Detroit:20250202T113000
DTSTAMP:20260425T071553
CREATED:20250115T143256Z
LAST-MODIFIED:20250115T143256Z
UID:10003723-1738494000-1738495800@mounthopechurch.org
SUMMARY:Water Baptism (Downtown)
DESCRIPTION:
URL:https://mhc.churchcenter.com/registrations/events/2714950#new_tab
LOCATION:Mount Hope Church\, 202 South Creyts Rd\, Lansing\, MI\, 48917\, United States
CATEGORIES:Downtown,Featured
ATTACH;FMTTYPE=image/jpeg:https://mounthopechurch.org/wp-content/uploads/2022/05/Baptism22DT-4.jpg
GEO:42.7325525;-84.6445883
X-APPLE-STRUCTURED-LOCATION;VALUE=URI;X-ADDRESS=Mount Hope Church 202 South Creyts Rd Lansing MI 48917 United States;X-APPLE-RADIUS=500;X-TITLE=202 South Creyts Rd:geo:-84.6445883,42.7325525
END:VEVENT
BEGIN:VEVENT
DTSTART;TZID=America/Detroit:20250204T183000
DTEND;TZID=America/Detroit:20250204T200000
DTSTAMP:20260425T071553
CREATED:20250103T152154Z
LAST-MODIFIED:20250103T152154Z
UID:10003721-1738693800-1738699200@mounthopechurch.org
SUMMARY:Enter the Wealthy Place
DESCRIPTION:
URL:https://mhc.churchcenter.com/registrations/events/2686256#new_tab
LOCATION:Mount Hope Church\, 202 South Creyts Rd\, Lansing\, MI\, 48917\, United States
CATEGORIES:Classes
ATTACH;FMTTYPE=image/jpeg:https://mounthopechurch.org/wp-content/uploads/2025/01/WealthyPlace_980x380.jpg
GEO:42.7325525;-84.6445883
X-APPLE-STRUCTURED-LOCATION;VALUE=URI;X-ADDRESS=Mount Hope Church 202 South Creyts Rd Lansing MI 48917 United States;X-APPLE-RADIUS=500;X-TITLE=202 South Creyts Rd:geo:-84.6445883,42.7325525
END:VEVENT
END:VCALENDAR