BEGIN:VCALENDAR
VERSION:2.0
PRODID:-//Mount Hope Church | Lansing, MI - ECPv6.15.20//NONSGML v1.0//EN
CALSCALE:GREGORIAN
METHOD:PUBLISH
X-ORIGINAL-URL:https://mounthopechurch.org
X-WR-CALDESC:Events for Mount Hope Church | Lansing, MI
REFRESH-INTERVAL;VALUE=DURATION:PT1H
X-Robots-Tag:noindex
X-PUBLISHED-TTL:PT1H
BEGIN:VTIMEZONE
TZID:America/Detroit
BEGIN:DAYLIGHT
TZOFFSETFROM:-0500
TZOFFSETTO:-0400
TZNAME:EDT
DTSTART:20240310T070000
END:DAYLIGHT
BEGIN:STANDARD
TZOFFSETFROM:-0400
TZOFFSETTO:-0500
TZNAME:EST
DTSTART:20241103T060000
END:STANDARD
BEGIN:DAYLIGHT
TZOFFSETFROM:-0500
TZOFFSETTO:-0400
TZNAME:EDT
DTSTART:20250309T070000
END:DAYLIGHT
BEGIN:STANDARD
TZOFFSETFROM:-0400
TZOFFSETTO:-0500
TZNAME:EST
DTSTART:20251102T060000
END:STANDARD
BEGIN:DAYLIGHT
TZOFFSETFROM:-0500
TZOFFSETTO:-0400
TZNAME:EDT
DTSTART:20260308T070000
END:DAYLIGHT
BEGIN:STANDARD
TZOFFSETFROM:-0400
TZOFFSETTO:-0500
TZNAME:EST
DTSTART:20261101T060000
END:STANDARD
END:VTIMEZONE
BEGIN:VEVENT
DTSTART;VALUE=DATE:20250223
DTEND;VALUE=DATE:20250224
DTSTAMP:20260425T071627
CREATED:20250130T162742Z
LAST-MODIFIED:20250130T163001Z
UID:10003728-1740268800-1740355199@mounthopechurch.org
SUMMARY:Missions Launch
DESCRIPTION:
URL:http://mounthopechurch.org/missions#new_tab
LOCATION:Mount Hope Church\, 202 South Creyts Rd\, Lansing\, MI\, 48917\, United States
CATEGORIES:Featured
ATTACH;FMTTYPE=image/jpeg:https://mounthopechurch.org/wp-content/uploads/2025/01/ML25-980x380-1.jpg
GEO:42.7325525;-84.6445883
X-APPLE-STRUCTURED-LOCATION;VALUE=URI;X-ADDRESS=Mount Hope Church 202 South Creyts Rd Lansing MI 48917 United States;X-APPLE-RADIUS=500;X-TITLE=202 South Creyts Rd:geo:-84.6445883,42.7325525
END:VEVENT
BEGIN:VEVENT
DTSTART;TZID=America/Detroit:20250226T190000
DTEND;TZID=America/Detroit:20250226T203000
DTSTAMP:20260425T071627
CREATED:20241128T161317Z
LAST-MODIFIED:20241204T145323Z
UID:10002268-1740596400-1740601800@mounthopechurch.org
SUMMARY:Women's Equip Night
DESCRIPTION:
URL:https://mhc.churchcenter.com/registrations/events/2612909#new_tab
LOCATION:MI
CATEGORIES:Womens Ministry
ATTACH;FMTTYPE=image/jpeg:https://mounthopechurch.org/wp-content/uploads/2023/12/WM-EquipGraphic-980x380-1.jpg
END:VEVENT
BEGIN:VEVENT
DTSTART;TZID=America/Detroit:20250228T200000
DTEND;TZID=America/Detroit:20250301T210000
DTSTAMP:20260425T071627
CREATED:20250124T161223Z
LAST-MODIFIED:20250217T162506Z
UID:10003725-1740772800-1740862800@mounthopechurch.org
SUMMARY:Gather25 (Watch Party)
DESCRIPTION:
URL:https://mhc.churchcenter.com/registrations/events/2736057#new_tab
LOCATION:Mount Hope Church\, 202 South Creyts Rd\, Lansing\, MI\, 48917\, United States
CATEGORIES:Featured,Prayer
ATTACH;FMTTYPE=image/jpeg:https://mounthopechurch.org/wp-content/uploads/2025/01/Gather25-980x380-1.jpg
GEO:42.7325525;-84.6445883
X-APPLE-STRUCTURED-LOCATION;VALUE=URI;X-ADDRESS=Mount Hope Church 202 South Creyts Rd Lansing MI 48917 United States;X-APPLE-RADIUS=500;X-TITLE=202 South Creyts Rd:geo:-84.6445883,42.7325525
END:VEVENT
BEGIN:VEVENT
DTSTART;VALUE=DATE:20250301
DTEND;VALUE=DATE:20250401
DTSTAMP:20260425T071627
CREATED:20240105T162346Z
LAST-MODIFIED:20250211T182232Z
UID:10003629-1740787200-1743465599@mounthopechurch.org
SUMMARY:March Food Drive
DESCRIPTION:
URL:https://mhc.churchcenter.com/registrations/events/2770969#new_tab
LOCATION:Mount Hope Church\, 202 South Creyts Rd\, Lansing\, MI\, 48917\, United States
CATEGORIES:Outreach
ATTACH;FMTTYPE=image/jpeg:https://mounthopechurch.org/wp-content/uploads/2024/01/FoodPantry-March-980x380-1.jpg
GEO:42.7325525;-84.6445883
X-APPLE-STRUCTURED-LOCATION;VALUE=URI;X-ADDRESS=Mount Hope Church 202 South Creyts Rd Lansing MI 48917 United States;X-APPLE-RADIUS=500;X-TITLE=202 South Creyts Rd:geo:-84.6445883,42.7325525
END:VEVENT
BEGIN:VEVENT
DTSTART;TZID=America/Detroit:20250301T093000
DTEND;TZID=America/Detroit:20250301T120000
DTSTAMP:20260425T071627
CREATED:20241113T160941Z
LAST-MODIFIED:20250131T175418Z
UID:10003320-1740821400-1740830400@mounthopechurch.org
SUMMARY:King's Group
DESCRIPTION:
URL:https://mhc.churchcenter.com/registrations/events/2612868#new_tab
LOCATION:MI
CATEGORIES:Kings Group
ATTACH;FMTTYPE=image/jpeg:https://mounthopechurch.org/wp-content/uploads/2024/11/KingsGroup1-980x380-1.jpg
END:VEVENT
END:VCALENDAR