BEGIN:VCALENDAR
VERSION:2.0
PRODID:-//Mount Hope Church | Lansing, MI - ECPv6.15.20//NONSGML v1.0//EN
CALSCALE:GREGORIAN
METHOD:PUBLISH
X-WR-CALNAME:Mount Hope Church | Lansing, MI
X-ORIGINAL-URL:https://mounthopechurch.org
X-WR-CALDESC:Events for Mount Hope Church | Lansing, MI
REFRESH-INTERVAL;VALUE=DURATION:PT1H
X-Robots-Tag:noindex
X-PUBLISHED-TTL:PT1H
BEGIN:VTIMEZONE
TZID:America/Detroit
BEGIN:DAYLIGHT
TZOFFSETFROM:-0500
TZOFFSETTO:-0400
TZNAME:EDT
DTSTART:20240310T070000
END:DAYLIGHT
BEGIN:STANDARD
TZOFFSETFROM:-0400
TZOFFSETTO:-0500
TZNAME:EST
DTSTART:20241103T060000
END:STANDARD
BEGIN:DAYLIGHT
TZOFFSETFROM:-0500
TZOFFSETTO:-0400
TZNAME:EDT
DTSTART:20250309T070000
END:DAYLIGHT
BEGIN:STANDARD
TZOFFSETFROM:-0400
TZOFFSETTO:-0500
TZNAME:EST
DTSTART:20251102T060000
END:STANDARD
BEGIN:DAYLIGHT
TZOFFSETFROM:-0500
TZOFFSETTO:-0400
TZNAME:EDT
DTSTART:20260308T070000
END:DAYLIGHT
BEGIN:STANDARD
TZOFFSETFROM:-0400
TZOFFSETTO:-0500
TZNAME:EST
DTSTART:20261101T060000
END:STANDARD
END:VTIMEZONE
BEGIN:VEVENT
DTSTART;VALUE=DATE:20250904
DTEND;VALUE=DATE:20251202
DTSTAMP:20260424T200953
CREATED:20250904T160401Z
LAST-MODIFIED:20250904T160943Z
UID:10003793-1756944000-1764633599@mounthopechurch.org
SUMMARY:Community Christmas Adoption
DESCRIPTION:
URL:https://mhc.churchcenter.com/registrations/events/3142230
LOCATION:Mount Hope Church\, 202 South Creyts Rd\, Lansing\, MI\, 48917\, United States
CATEGORIES:Christmas,Outreach
ATTACH;FMTTYPE=image/jpeg:https://mounthopechurch.org/wp-content/uploads/2025/09/AngelTree-2.jpg
GEO:42.7325525;-84.6445883
X-APPLE-STRUCTURED-LOCATION;VALUE=URI;X-ADDRESS=Mount Hope Church 202 South Creyts Rd Lansing MI 48917 United States;X-APPLE-RADIUS=500;X-TITLE=202 South Creyts Rd:geo:-84.6445883,42.7325525
END:VEVENT
BEGIN:VEVENT
DTSTART;TZID=America/Detroit:20251102T093000
DTEND;TZID=America/Detroit:20251102T100000
DTSTAMP:20260424T200953
CREATED:20251006T090007Z
LAST-MODIFIED:20251029T172500Z
UID:10003782-1762075800-1762077600@mounthopechurch.org
SUMMARY:Water Baptism
DESCRIPTION:
URL:https://mhc.churchcenter.com/registrations/events/3110727#new_tab
LOCATION:Mount Hope Church\, 202 South Creyts Rd\, Lansing\, MI\, 48917\, United States
CATEGORIES:Featured
ATTACH;FMTTYPE=image/jpeg:https://mounthopechurch.org/wp-content/uploads/2025/08/Baptism-Nov25.jpg
GEO:42.7325525;-84.6445883
X-APPLE-STRUCTURED-LOCATION;VALUE=URI;X-ADDRESS=Mount Hope Church 202 South Creyts Rd Lansing MI 48917 United States;X-APPLE-RADIUS=500;X-TITLE=202 South Creyts Rd:geo:-84.6445883,42.7325525
END:VEVENT
BEGIN:VEVENT
DTSTART;TZID=America/Detroit:20251108T074500
DTEND;TZID=America/Detroit:20251108T110000
DTSTAMP:20260424T200953
CREATED:20250810T160353Z
LAST-MODIFIED:20251106T161825Z
UID:10002277-1762587900-1762599600@mounthopechurch.org
SUMMARY:Food Distribution Volunteer
DESCRIPTION:
URL:https://mhc.churchcenter.com/registrations/events/2613185#new_tab
LOCATION:MI
CATEGORIES:Outreach
ATTACH;FMTTYPE=image/jpeg:https://mounthopechurch.org/wp-content/uploads/2023/01/Food-Volunteer-980x380-1.jpg
END:VEVENT
BEGIN:VEVENT
DTSTART;TZID=America/Detroit:20251108T083000
DTEND;TZID=America/Detroit:20251108T103000
DTSTAMP:20260424T200953
CREATED:20250810T160457Z
LAST-MODIFIED:20251106T161829Z
UID:10002278-1762590600-1762597800@mounthopechurch.org
SUMMARY:Free Food Distribution Day
DESCRIPTION:
URL:http://mounthopechurch.org/food-distribution
LOCATION:MI
CATEGORIES:Featured,Outreach
ATTACH;FMTTYPE=image/jpeg:https://mounthopechurch.org/wp-content/uploads/2022/05/FoodPickup.jpg
END:VEVENT
END:VCALENDAR